BEGIN:VCALENDAR
VERSION:2.0
PRODID:-//Wild Ginger Living - ECPv6.15.20//NONSGML v1.0//EN
CALSCALE:GREGORIAN
METHOD:PUBLISH
X-ORIGINAL-URL:https://wildgingerliving.com
X-WR-CALDESC:Events for Wild Ginger Living
REFRESH-INTERVAL;VALUE=DURATION:PT1H
X-Robots-Tag:noindex
X-PUBLISHED-TTL:PT1H
BEGIN:VTIMEZONE
TZID:America/New_York
BEGIN:DAYLIGHT
TZOFFSETFROM:-0500
TZOFFSETTO:-0400
TZNAME:EDT
DTSTART:20240310T070000
END:DAYLIGHT
BEGIN:STANDARD
TZOFFSETFROM:-0400
TZOFFSETTO:-0500
TZNAME:EST
DTSTART:20241103T060000
END:STANDARD
BEGIN:DAYLIGHT
TZOFFSETFROM:-0500
TZOFFSETTO:-0400
TZNAME:EDT
DTSTART:20250309T070000
END:DAYLIGHT
BEGIN:STANDARD
TZOFFSETFROM:-0400
TZOFFSETTO:-0500
TZNAME:EST
DTSTART:20251102T060000
END:STANDARD
BEGIN:DAYLIGHT
TZOFFSETFROM:-0500
TZOFFSETTO:-0400
TZNAME:EDT
DTSTART:20260308T070000
END:DAYLIGHT
BEGIN:STANDARD
TZOFFSETFROM:-0400
TZOFFSETTO:-0500
TZNAME:EST
DTSTART:20261101T060000
END:STANDARD
END:VTIMEZONE
BEGIN:VEVENT
DTSTART;TZID=America/New_York:20250602T180000
DTEND;TZID=America/New_York:20250602T200000
DTSTAMP:20260422T032715
CREATED:20250502T123500Z
LAST-MODIFIED:20250502T123647Z
UID:460-1748887200-1748894400@wildgingerliving.com
SUMMARY:Citrus Punch Soaps
DESCRIPTION:Summer is here and it is the perfect time these soaps in citrusy scents to help welcome it in. In this class\, Ginger Stoops will teach you how to make your own cold-processed soap using an easy recipe that uses simple ingredients.These soap bars have a wonderful\, clean feel and excellent lather. They are made with olive oil and coconut oil\, natural colors\, and essential oils. Ginger will teach you how to layer beautiful summer citrus colors and infuse popular citrus fragrances into your soaps and create some beautiful color and scent combinations. \nYou will make the soaps in class\, and can then pick them up in a few days after they are ready to unmold. You can choose from a selection of natural essential oils\, natural colorants\, and additions to make your bars unique. All materials and equipment are provided for making soap. \nThis class is for adults only due to working with lye\, which can cause severe burns if not handled properly. Please wear clothing that is appropriate for messy projects and closed-toed shoes. \nClass limited to 8\, and they fill up FAST\, so be sure to preregister to hold your spot.
URL:https://wildgingerliving.com/event/citrus-punch-soaps/
CATEGORIES:Arts and Crafts Classes
ATTACH;FMTTYPE=image/jpeg:https://wildgingerliving.com/wp-content/uploads/2025/05/Summer-Citrus-Soaps-scaled.jpg
ORGANIZER;CN="Ginger Stoops":MAILTO:wildginger@zoominternet.net
END:VEVENT
BEGIN:VEVENT
DTSTART;TZID=America/New_York:20250604T180000
DTEND;TZID=America/New_York:20250604T200000
DTSTAMP:20260422T032715
CREATED:20250502T124037Z
LAST-MODIFIED:20250502T124037Z
UID:463-1749060000-1749067200@wildgingerliving.com
SUMMARY:Craft and Sip! Painting with Wool: 3D Needle Felt Sunflower Picture Workshop
DESCRIPTION:Who doesn’t love sunflowers? I know I love them! Explore the art of needle felting with this fun project! In this class\, you will use wool that is poked with a special type of needle to create a three-dimensional picture that will brighten any room of your home. You can choose from a beautiful range of wool colors to make it your own. This class teaches you the basics that you can use to create your own masterpieces. Come and see what you can create!\nSpots are limited\, so be sure to sign up and reserve yours today! \nJust a reminder that beverages and snacks are always welcome at Tin Can Chandelier. Plates\, napkins\, and glasses will be provided. \nSKILL LEVEL: All skill levels and great for beginners\nINCLUDED IN FEE All materials needed for project and use of tools in class are included in class fee\nNEED TO BRING Just your creativity.\nCLASS TIME: 2 Hours\nAGES: 10+\nCOST: $25 + tax
URL:https://wildgingerliving.com/event/craft-and-sip-painting-with-wool-3d-needle-felt-sunflower-picture-workshop/
CATEGORIES:Arts and Crafts Classes
ATTACH;FMTTYPE=image/jpeg:https://wildgingerliving.com/wp-content/uploads/2025/05/Craft-and-Sip-Painting-with-Wool_-3D-Needle-Felt-Sunflower-Picture--scaled.jpg
ORGANIZER;CN="Ginger Stoops":MAILTO:wildginger@zoominternet.net
END:VEVENT
BEGIN:VEVENT
DTSTART;TZID=America/New_York:20250605T180000
DTEND;TZID=America/New_York:20250605T200000
DTSTAMP:20260422T032715
CREATED:20250502T124312Z
LAST-MODIFIED:20250502T124312Z
UID:466-1749146400-1749153600@wildgingerliving.com
SUMMARY:Craft and Sip! Painting with Wool: 3D Needle Felt Sunflower Picture Workshop
DESCRIPTION:Who doesn’t love sunflowers? I know I love them! Explore the art of needle felting with this fun project! In this class\, you will use wool that is poked with a special type of needle to create a three-dimensional picture that will brighten any room of your home. You can choose from a beautiful range of wool colors to make it your own. This class teaches you the basics that you can use to create your own masterpieces. Come and see what you can create!\nSpots are limited\, so be sure to sign up and reserve yours today! \nJust a reminder that beverages and snacks are always welcome at Tin Can Chandelier. Plates\, napkins\, and glasses will be provided. \nSKILL LEVEL: All skill levels and great for beginners\nINCLUDED IN FEE All materials needed for project and use of tools in class are included in class fee\nNEED TO BRING Just your creativity.\nCLASS TIME: 2 Hours\nAGES: 10+\nCOST: $25 + tax
URL:https://wildgingerliving.com/event/craft-and-sip-painting-with-wool-3d-needle-felt-sunflower-picture-workshop-2/
CATEGORIES:Arts and Crafts Classes
ATTACH;FMTTYPE=image/jpeg:https://wildgingerliving.com/wp-content/uploads/2025/05/Craft-and-Sip-Painting-with-Wool_-3D-Needle-Felt-Sunflower-Picture--scaled.jpg
ORGANIZER;CN="Ginger Stoops":MAILTO:wildginger@zoominternet.net
END:VEVENT
BEGIN:VEVENT
DTSTART;TZID=America/New_York:20250623T180000
DTEND;TZID=America/New_York:20250623T200000
DTSTAMP:20260422T032715
CREATED:20250502T124523Z
LAST-MODIFIED:20250502T124541Z
UID:468-1750701600-1750708800@wildgingerliving.com
SUMMARY:DIY All-Natural Cosmetics
DESCRIPTION:Did you know that you can make your own cosmetics with all-natural ingredients? In this class Ginger Stoops will show you how to make your own foundation\, blush\, and eye-shadow powders. She will guide you to help create shades that are a perfect match for your skin tone. These make-ups have a light and airy feel on the skin\, and they last a long time. You will learn to formulate your own recipes and will take home what you create. Once you learn how easy it is\, you will not want to go back to store-bought colors. \nClass limited to 8\, and they fill up FAST\, so be sure to preregister to hold your spot.
URL:https://wildgingerliving.com/event/diy-all-natural-cosmetics/
CATEGORIES:Arts and Crafts Classes
ATTACH;FMTTYPE=image/jpeg:https://wildgingerliving.com/wp-content/uploads/2025/04/DIY-Cosmetics-scaled.jpg
ORGANIZER;CN="Ginger Stoops":MAILTO:wildginger@zoominternet.net
END:VEVENT
END:VCALENDAR