BEGIN:VCALENDAR
VERSION:2.0
PRODID:-//Wild Ginger Living - ECPv6.15.20//NONSGML v1.0//EN
CALSCALE:GREGORIAN
METHOD:PUBLISH
X-WR-CALNAME:Wild Ginger Living
X-ORIGINAL-URL:https://wildgingerliving.com
X-WR-CALDESC:Events for Wild Ginger Living
REFRESH-INTERVAL;VALUE=DURATION:PT1H
X-Robots-Tag:noindex
X-PUBLISHED-TTL:PT1H
BEGIN:VTIMEZONE
TZID:America/New_York
BEGIN:DAYLIGHT
TZOFFSETFROM:-0500
TZOFFSETTO:-0400
TZNAME:EDT
DTSTART:20240310T070000
END:DAYLIGHT
BEGIN:STANDARD
TZOFFSETFROM:-0400
TZOFFSETTO:-0500
TZNAME:EST
DTSTART:20241103T060000
END:STANDARD
BEGIN:DAYLIGHT
TZOFFSETFROM:-0500
TZOFFSETTO:-0400
TZNAME:EDT
DTSTART:20250309T070000
END:DAYLIGHT
BEGIN:STANDARD
TZOFFSETFROM:-0400
TZOFFSETTO:-0500
TZNAME:EST
DTSTART:20251102T060000
END:STANDARD
BEGIN:DAYLIGHT
TZOFFSETFROM:-0500
TZOFFSETTO:-0400
TZNAME:EDT
DTSTART:20260308T070000
END:DAYLIGHT
BEGIN:STANDARD
TZOFFSETFROM:-0400
TZOFFSETTO:-0500
TZNAME:EST
DTSTART:20261101T060000
END:STANDARD
END:VTIMEZONE
BEGIN:VEVENT
DTSTART;TZID=America/New_York:20250519T180000
DTEND;TZID=America/New_York:20250519T200000
DTSTAMP:20260422T064505
CREATED:20250402T010243Z
LAST-MODIFIED:20250402T010243Z
UID:429-1747677600-1747684800@wildgingerliving.com
SUMMARY:Lotion Bars and DIY Deodorant
DESCRIPTION:Making your own bath and body products from natural ingredients makes you feel good about what you are putting on your skin. Lotion bars are wonderful for the skin and fun to make\, and natural deodorant sticks are only a simple step away from the basic recipe. In this workshop you will learn to create your own deodorant and lotion bars using a few simple and inexpensive ingredients. All materials and recipes are included. A selection of essential oils will be available\, but feel free to bring your own! \nClass limited to 8\, and they fill up FAST\, so be sure to preregister to hold your spot. \nPrice: $25.00\nAge: 16+
URL:https://wildgingerliving.com/event/lotion-bars-and-diy-deodorant/
CATEGORIES:Arts and Crafts Classes
ATTACH;FMTTYPE=image/jpeg:https://wildgingerliving.com/wp-content/uploads/2025/04/Lotion-bars-and-deodorant-scaled.jpg
ORGANIZER;CN="Ginger Stoops":MAILTO:wildginger@zoominternet.net
END:VEVENT
END:VCALENDAR