BEGIN:VCALENDAR
VERSION:2.0
PRODID:-//Wild Ginger Living - ECPv6.15.20//NONSGML v1.0//EN
CALSCALE:GREGORIAN
METHOD:PUBLISH
X-ORIGINAL-URL:https://wildgingerliving.com
X-WR-CALDESC:Events for Wild Ginger Living
REFRESH-INTERVAL;VALUE=DURATION:PT1H
X-Robots-Tag:noindex
X-PUBLISHED-TTL:PT1H
BEGIN:VTIMEZONE
TZID:America/New_York
BEGIN:DAYLIGHT
TZOFFSETFROM:-0500
TZOFFSETTO:-0400
TZNAME:EDT
DTSTART:20250309T070000
END:DAYLIGHT
BEGIN:STANDARD
TZOFFSETFROM:-0400
TZOFFSETTO:-0500
TZNAME:EST
DTSTART:20251102T060000
END:STANDARD
BEGIN:DAYLIGHT
TZOFFSETFROM:-0500
TZOFFSETTO:-0400
TZNAME:EDT
DTSTART:20260308T070000
END:DAYLIGHT
BEGIN:STANDARD
TZOFFSETFROM:-0400
TZOFFSETTO:-0500
TZNAME:EST
DTSTART:20261101T060000
END:STANDARD
BEGIN:DAYLIGHT
TZOFFSETFROM:-0500
TZOFFSETTO:-0400
TZNAME:EDT
DTSTART:20270314T070000
END:DAYLIGHT
BEGIN:STANDARD
TZOFFSETFROM:-0400
TZOFFSETTO:-0500
TZNAME:EST
DTSTART:20271107T060000
END:STANDARD
END:VTIMEZONE
BEGIN:VEVENT
DTSTART;TZID=America/New_York:20260710T180000
DTEND;TZID=America/New_York:20260710T200000
DTSTAMP:20260421T184730
CREATED:20260410T174146Z
LAST-MODIFIED:20260410T174146Z
UID:957-1783706400-1783713600@wildgingerliving.com
SUMMARY:Uncorked Painting with Ginger: FINGERPAINTED Cherry Blossoms
DESCRIPTION:Yes\, you read that right. Ginger puts the fun in fine art with this relaxing paint and sip workshop where we will learn fingepainting techniques to create these beautiful Japanese-style cherry blossoms. We all loved fingerpainting as kids\, and that is what makes this grown-up version so fun. \nPainting is an excellent way to relax and enjoy an evening with some old friends\, or to make a few new ones. Anyone can learn\, and GInger makes it easy. This fun 2-hour workshop is perfect for the beginner to those more advanced in acrylic painting. In this guided workshop\, you can paint and sip at your own pace in a relaxed\, upbeat environment. It is perfect for a party\, girl’s night out\, or the perfect date night. \nFeel free to bring your own beverage of choice\, or any food or snacks that you prefer. We will provide cups\, corkscrews\, plates\, and silverware. Come join us fun evening!
URL:https://wildgingerliving.com/event/uncorked-painting-with-ginger-fingerpainted-cherry-blossoms-2/
LOCATION:Tin Can Chandelier
CATEGORIES:Arts and Crafts Classes
ATTACH;FMTTYPE=image/jpeg:https://wildgingerliving.com/wp-content/uploads/2026/04/IMG_2160-scaled.jpeg
ORGANIZER;CN="Ginger Stoops":MAILTO:wildginger@zoominternet.net
END:VEVENT
BEGIN:VEVENT
DTSTART;TZID=America/New_York:20260716T173000
DTEND;TZID=America/New_York:20260716T200000
DTSTAMP:20260421T184730
CREATED:20260323T213222Z
LAST-MODIFIED:20260323T213222Z
UID:898-1784223000-1784232000@wildgingerliving.com
SUMMARY:Crochet Granny Squares with a Granny
DESCRIPTION:Granny squares are a fun and not so retro. I remember when they came around the first time\, and now they are back in a new way! If you have ever wondered how to make the versatile granny square\, this granny is ready to share her secrets. In this class you will learn chain stitch\, magic ring (for those who are daring enough)\, double crochet\, and the granny square cluster. You will also learn a few of the more popular joins. \nOnce you learn the basic granny square\, it is the gateway to endless creativity. Ginger Stoops is a local textile artist and patient teacher who can help. \nAll yarn is provided\, and we will have hooks and other necessary equipment for you to take home. If you wish to bring your own hooks\, this project uses size 5mm hook and #3 DK weight yarn. \nCome hook with us!
URL:https://wildgingerliving.com/event/crochet-granny-squares-with-a-granny-2/
LOCATION:Tin Can Chandelier
CATEGORIES:Arts and Crafts Classes
ATTACH;FMTTYPE=image/jpeg:https://wildgingerliving.com/wp-content/uploads/2026/03/Granny-Square-Class-scaled.jpeg
ORGANIZER;CN="Ginger Stoops":MAILTO:wildginger@zoominternet.net
END:VEVENT
BEGIN:VEVENT
DTSTART;TZID=America/New_York:20260731T180000
DTEND;TZID=America/New_York:20260731T200000
DTSTAMP:20260421T184730
CREATED:20260410T172043Z
LAST-MODIFIED:20260410T172043Z
UID:947-1785520800-1785528000@wildgingerliving.com
SUMMARY:Uncorked Painting with Ginger: FINGERPAINTED Landscape
DESCRIPTION:Yes\, you read that right. Ginger puts the fun in fine art with this relaxing paint and sip workshop where we will learn fingepainting techniques to create an impressionist-style landscape. We all loved fingerpainting as kids\, and that is what makes this grown-up version so fun. \nPainting is an excellent way to relax and enjoy an evening with some old friends\, or to make a few new ones. Anyone can learn\, and GInger makes it easy. This fun 2-hour workshop is perfect for the beginner to those more advanced in acrylic painting. In this guided workshop\, you can paint and sip at your own pace in a relaxed\, upbeat environment. It is perfect for a party\, girl’s night out\, or the perfect date night. \nFeel free to bring your own beverage of choice\, or any food or snacks that you prefer. We will provide cups\, corkscrews\, plates\, and silverware. Come join us fun evening!
URL:https://wildgingerliving.com/event/uncorked-painting-with-ginger-fingerpainted-landscape-2/
LOCATION:Tin Can Chandelier
CATEGORIES:Arts and Crafts Classes
ATTACH;FMTTYPE=image/jpeg:https://wildgingerliving.com/wp-content/uploads/2026/04/IMG_2183-scaled.jpeg
ORGANIZER;CN="Ginger Stoops":MAILTO:wildginger@zoominternet.net
END:VEVENT
BEGIN:VEVENT
DTSTART;TZID=America/New_York:20260803T180000
DTEND;TZID=America/New_York:20260803T200000
DTSTAMP:20260421T184730
CREATED:20260101T213126Z
LAST-MODIFIED:20260101T213126Z
UID:639-1785780000-1785787200@wildgingerliving.com
SUMMARY:Fun Swirl Soaps: Soapmaking Workshop
DESCRIPTION:Scent of the Month: Sunset. A delicate musk atop notes of orange and eucalyptus. A clean\, fresh\, fragrant scent. \nInstructor: Ginger Stoops\nPrice: $30.00 \nLearn how to do fun swirls to take your soap skills up a notch. In this class\, Ginger Stoops will teach you how to make your own cold-processed soap using an easy recipe that uses simple ingredients. These soap bars have a wonderful\, clean feel and excellent lather. They are made with olive oil and coconut oil\, natural clays\, and natural micas for color. \nIn this class\, you will take home three bars of your own creation\, depending on the mold you choose. You will make the soaps in class\, and can then pick them up in a few days after they are ready to unmold. All materials and equipment are provided for making soap. \nThis class is for adults only due to working with lye\, which can cause severe burns if not handled properly. Please wear clothing that is appropriate for messy projects and closed-toed shoes. \nAge: 18+\nClass limited to 8\, and they fill up FAST\, so be sure to preregister to hold your spot.
URL:https://wildgingerliving.com/event/fun-swirl-soaps-soapmaking-workshop/
CATEGORIES:Arts and Crafts Classes
ATTACH;FMTTYPE=image/jpeg:https://wildgingerliving.com/wp-content/uploads/2025/04/Pumpkin-vs-Apple-Swirl.jpg
ORGANIZER;CN="Ginger Stoops":MAILTO:wildginger@zoominternet.net
END:VEVENT
BEGIN:VEVENT
DTSTART;TZID=America/New_York:20260907T180000
DTEND;TZID=America/New_York:20260907T200000
DTSTAMP:20260421T184730
CREATED:20260101T213433Z
LAST-MODIFIED:20260101T213433Z
UID:642-1788804000-1788811200@wildgingerliving.com
SUMMARY:Pure Olive Oil Castile Soap: Soapmaking Workshop
DESCRIPTION:Scent of the Month: Mountain Rain. Fresh\, clean rain with undertones of mossy wood and sweet middle notes of lavender and rose. \nInstructor: Ginger Stoops\nPrice: $30.00 \nCastile soap has been around for centuries. It is known for its gentleness on the skin and clean feel.  In this class\, Ginger Stoops will teach you how to make your own cold-processed soap using an easy recipe that uses simple ingredients. These soap bars have a wonderful\, clean feel and excellent lather. This soap is made from pure olive oil\, natural clays\, and natural micas for color. You can feel free to leave it unscented or uncolored if you wish. \nIn this class\, you will take home three bars of your own creation\, depending on the mold you choose. You will make the soaps in class\, and can then pick them up in a few days after they are ready to unmold. All materials and equipment are provided for making soap. \nThis class is for adults only due to working with lye\, which can cause severe burns if not handled properly. Please wear clothing that is appropriate for messy projects and closed-toed shoes. \nAge: 18+\nClass limited to 8\, and they fill up FAST\, so be sure to preregister to hold your spot.
URL:https://wildgingerliving.com/event/pure-olive-oil-castile-soap-soapmaking-workshop/
CATEGORIES:Arts and Crafts Classes
ATTACH;FMTTYPE=image/jpeg:https://wildgingerliving.com/wp-content/uploads/2025/04/Pure-Olive-Oil-Castille-Soap-scaled.jpg
ORGANIZER;CN="Ginger Stoops":MAILTO:wildginger@zoominternet.net
END:VEVENT
BEGIN:VEVENT
DTSTART;TZID=America/New_York:20260910T173000
DTEND;TZID=America/New_York:20260910T203000
DTSTAMP:20260421T184730
CREATED:20260211T193136Z
LAST-MODIFIED:20260211T193136Z
UID:805-1789061400-1789072200@wildgingerliving.com
SUMMARY:Make Your Own Yarn!!!!
DESCRIPTION:Do you knit\, crochet\, or weave? Wouldn’t it be wonderful to be able to spin your own yarn for your creations? If you have ever wondered how to spin yarn\, this is the workshop for you. Ginger has been spinning for 40+ years and can show you how to get started. In this workshop\, you will use a drop spindle to learn the basics of drafting and twist. You will take home a drop spindle and raw wool to practice. \nGinger will also bring in a few spinning wheels for you to try once you get the hang of it. This is a gateway workshop to other delectable topics in spinning\, like using a spinning wheel\, designing yarn for a specific project\, and spinning ultra-soft exotics like silk\, angora\, and alpaca. It makes a great homeschool project. Class Sizes are small\, so you get lots of one-on-one instruction.
URL:https://wildgingerliving.com/event/make-your-own-yarn-3/
LOCATION:Tin Can Chandelier
CATEGORIES:Arts and Crafts Classes
ATTACH;FMTTYPE=image/jpeg:https://wildgingerliving.com/wp-content/uploads/2026/02/Spinning-Class-scaled.jpg
ORGANIZER;CN="Ginger Stoops":MAILTO:wildginger@zoominternet.net
END:VEVENT
BEGIN:VEVENT
DTSTART;TZID=America/New_York:20260910T173000
DTEND;TZID=America/New_York:20260910T203000
DTSTAMP:20260421T184730
CREATED:20260323T214430Z
LAST-MODIFIED:20260323T214430Z
UID:900-1789061400-1789072200@wildgingerliving.com
SUMMARY:Make Your Own Yarn!!!!
DESCRIPTION:Do you knit\, crochet\, or weave? Wouldn’t it be wonderful to be able to spin your own yarn for your creations? If you have ever wondered how to spin yarn\, this is the workshop for you. Ginger has been spinning for 40+ years and can show you how to get started. In this workshop\, you will use a drop spindle to learn the basics of drafting and twist. You will take home a drop spindle and raw wool to practice. \nGinger will also bring in a few spinning wheels for you to try once you get the hang of it. This is a gateway workshop to other delectable topics in spinning\, like using a spinning wheel\, designing yarn for a specific project\, and spinning ultra-soft exotics like silk\, angora\, and alpaca. It makes a great homeschool project. Class Sizes are small\, so you get lots of one-on-one instruction. \nYou will take home your own drop spindle and 1 ounce of wool roving for practice.
URL:https://wildgingerliving.com/event/make-your-own-yarn-4/
LOCATION:Tin Can Chandelier
CATEGORIES:Arts and Crafts Classes
ATTACH;FMTTYPE=image/jpeg:https://wildgingerliving.com/wp-content/uploads/2025/12/Spin-Your-Own-Yarn-101-scaled.jpg
ORGANIZER;CN="Ginger Stoops":MAILTO:wildginger@zoominternet.net
END:VEVENT
BEGIN:VEVENT
DTSTART;TZID=America/New_York:20260911T180000
DTEND;TZID=America/New_York:20260911T200000
DTSTAMP:20260421T184730
CREATED:20260410T173257Z
LAST-MODIFIED:20260410T173257Z
UID:952-1789149600-1789156800@wildgingerliving.com
SUMMARY:Uncorked Painting with Ginger: FINGERPAINTED Sunset
DESCRIPTION:Yes\, you read that right. Ginger puts the fun in fine art with this relaxing paint and sip workshop where we will learn fingepainting techniques to create a vibrant impressionist-style sunset. We all loved fingerpainting as kids\, and that is what makes this grown-up version so fun. \nPainting is an excellent way to relax and enjoy an evening with some old friends\, or to make a few new ones. Anyone can learn\, and GInger makes it easy. This fun 2-hour workshop is perfect for the beginner to those more advanced in acrylic painting. In this guided workshop\, you can paint and sip at your own pace in a relaxed\, upbeat environment. It is perfect for a party\, girl’s night out\, or the perfect date night. \nFeel free to bring your own beverage of choice\, or any food or snacks that you prefer. We will provide cups\, corkscrews\, plates\, and silverware. Come join us fun evening!
URL:https://wildgingerliving.com/event/uncorked-painting-with-ginger-fingerpainted-sunset-2/
LOCATION:Tin Can Chandelier
CATEGORIES:Arts and Crafts Classes
ATTACH;FMTTYPE=image/jpeg:https://wildgingerliving.com/wp-content/uploads/2026/04/IMG_2180-scaled.jpeg
ORGANIZER;CN="Ginger Stoops":MAILTO:wildginger@zoominternet.net
END:VEVENT
BEGIN:VEVENT
DTSTART;TZID=America/New_York:20260914T180000
DTEND;TZID=America/New_York:20260914T200000
DTSTAMP:20260421T184730
CREATED:20260122T171505Z
LAST-MODIFIED:20260122T171505Z
UID:693-1789408800-1789416000@wildgingerliving.com
SUMMARY:Soapmaking - Make Your Own Dish Soap Bar!!!
DESCRIPTION:I have been back in the soap lab again\, and I have to share this one with you! I was looking for a more natural alternative to my favorite grease-fighting dishwashing detergents. I looked at several recipes and did not like them\, so I created my own\, and it works! I have used this soap on pans with tough stains\, and they came off so that they looked like new. This soap is lathery but  does not lather as much as commercial soaps. We all know that lather is just for looks and is not what does the cleaning. The bottom line is that it works! \nThis soap can be bare bones with no scents or colors\, but I will have a selection of plant-based scents and natural clays to add if you like. \nIn this class\, you will take home three bars of your own dish soap. You will make the soaps in class\, and can then pick them up in a few days after they are ready to unmold. All materials and equipment are provided for making soap. \nThis class is for adults only due to working with lye\, which can cause severe burns if not handled properly. Please wear clothing that is appropriate for messy projects and closed-toed shoes. \nAge: 18+\nClass limited to 8\, and they fill up FAST\, so be sure to preregister to hold your spot.
URL:https://wildgingerliving.com/event/soapmaking-make-your-own-dish-soap-bar-3/
CATEGORIES:Arts and Crafts Classes
ATTACH;FMTTYPE=image/jpeg:https://wildgingerliving.com/wp-content/uploads/2026/01/Dish-Soap-Final-.jpg
ORGANIZER;CN="Ginger Stoops":MAILTO:wildginger@zoominternet.net
END:VEVENT
BEGIN:VEVENT
DTSTART;TZID=America/New_York:20260917T173000
DTEND;TZID=America/New_York:20260917T200000
DTSTAMP:20260421T184730
CREATED:20260323T223146Z
LAST-MODIFIED:20260323T223146Z
UID:902-1789666200-1789675200@wildgingerliving.com
SUMMARY:Crochet Granny Squares with a Granny
DESCRIPTION:Granny squares are a fun and not so retro. I remember when they came around the first time\, and now they are back in a new way! If you have ever wondered how to make the versatile granny square\, this granny is ready to share her secrets. In this class you will learn chain stitch\, magic ring (for those who are daring enough)\, double crochet\, and the granny square cluster. You will also learn a few of the more popular joins. \nOnce you learn the basic granny square\, it is the gateway to endless creativity. Ginger Stoops is a local textile artist and patient teacher who can help. \nAll yarn is provided\, and we will have hooks and other necessary equipment for you to take home. If you wish to bring your own hooks\, this project uses size 5mm hook and #3 DK weight yarn. \nCome hook with us!
URL:https://wildgingerliving.com/event/crochet-granny-squares-with-a-granny-3/
LOCATION:Tin Can Chandelier
CATEGORIES:Arts and Crafts Classes
ATTACH;FMTTYPE=image/jpeg:https://wildgingerliving.com/wp-content/uploads/2026/03/Granny-Square-Class-scaled.jpeg
ORGANIZER;CN="Ginger Stoops":MAILTO:wildginger@zoominternet.net
END:VEVENT
BEGIN:VEVENT
DTSTART;TZID=America/New_York:20261005T180000
DTEND;TZID=America/New_York:20261005T200000
DTSTAMP:20260421T184730
CREATED:20260101T214015Z
LAST-MODIFIED:20260101T214015Z
UID:644-1791223200-1791230400@wildgingerliving.com
SUMMARY:Halloween Jack O Lantern Soap Workshop
DESCRIPTION:Scent of the Month: Ginger Pumpkin. You simply have to try this scent! Spiced\, fall\, pumpkin pie scent with hints of cinnamon\, clove\, and sweet vanilla put you in a fall mood for sure. \nInstructor: Ginger Stoops\nPrice: $30.00 \nJust in time for Halloween\, these adorable Jack-O-Lantern soaps will add some spooky fun. In this class\, Ginger Stoops will teach you how to make your own cold-processed soap using an easy recipe that uses simple ingredients. These soap bars have a wonderful\, clean feel and excellent lather. They are made with olive oil and coconut oil\, natural clays\, and natural micas for color. \nIn this class\, you will take home three bars of your own creation\, depending on the mold you choose. You will make the soaps in class\, and can then pick them up in a few days after they are ready to unmold. All materials and equipment are provided for making soap. \nThis class is for adults only due to working with lye\, which can cause severe burns if not handled properly. Please wear clothing that is appropriate for messy projects and closed-toed shoes. \nAge: 18+\nClass limited to 8\, and they fill up FAST\, so be sure to preregister to hold your spot.
URL:https://wildgingerliving.com/event/halloween-jack-o-lantern-soap-workshop-2/
CATEGORIES:Arts and Crafts Classes
ATTACH;FMTTYPE=image/jpeg:https://wildgingerliving.com/wp-content/uploads/2026/01/Halloween-Jack-O-Lantern-Soap-scaled.jpg
ORGANIZER;CN="Ginger Stoops":MAILTO:wildginger@zoominternet.net
END:VEVENT
BEGIN:VEVENT
DTSTART;TZID=America/New_York:20261008T180000
DTEND;TZID=America/New_York:20261008T200000
DTSTAMP:20260421T184730
CREATED:20260323T223803Z
LAST-MODIFIED:20260323T223803Z
UID:904-1791482400-1791489600@wildgingerliving.com
SUMMARY:It's Pumpkinfest! Needle Felted Fall Pumpkin Workshop
DESCRIPTION:Just in time to decorate your holiday table\, local fiber artist Ginger Stoops is here to teach you the basics of needle felting to create these adorable fall pumpkins. They make a great decoration for your holiday table or mantle. You will learn the skills necessary to create other projects beyond this class. Needle felting needles are extremely sharp\, so keep that in mind when signing up for this class. Needle felting is the perfect way to relax on a cool\, fall night. Needle felting needles are available to borrow for the class. All other materials are provided. \nAs always\, feel free to bring your favorite beverage or snack. \n 
URL:https://wildgingerliving.com/event/its-pumpkinfest-needle-felted-fall-pumpkin-workshop/
LOCATION:Tin Can Chandelier
CATEGORIES:Arts and Crafts Classes
ATTACH;FMTTYPE=image/jpeg:https://wildgingerliving.com/wp-content/uploads/2026/03/Pumpkinfest-scaled.jpg
ORGANIZER;CN="Ginger Stoops":MAILTO:wildginger@zoominternet.net
END:VEVENT
BEGIN:VEVENT
DTSTART;TZID=America/New_York:20261102T180000
DTEND;TZID=America/New_York:20261102T200000
DTSTAMP:20260421T184730
CREATED:20260101T215104Z
LAST-MODIFIED:20260101T215104Z
UID:647-1793642400-1793649600@wildgingerliving.com
SUMMARY:Apple Season! : Soapmaking Workshop
DESCRIPTION:Scent of the Month: Apple Cinnamon gives cozy key notes of crisp apple and warm cinnamon. \nInstructor: Ginger Stoops\nPrice: $30.00 \nIt’s Apple season\, and this soap will give your home a warm and cozy feel. In this class\, Ginger Stoops will teach you how to make your own cold-processed soap using an easy recipe that uses simple ingredients. These soap bars have a wonderful\, clean feel and excellent lather. They are made with olive oil and coconut oil\, natural clays\, and natural micas for color. \nIn this class\, you will take home three bars of your own creation\, depending on the mold you choose. You will make the soaps in class\, and can then pick them up in a few days after they are ready to unmold. All materials and equipment are provided for making soap. \nThis class is for adults only due to working with lye\, which can cause severe burns if not handled properly. Please wear clothing that is appropriate for messy projects and closed-toed shoes. \nAge: 18+\nClass limited to 8\, and they fill up FAST\, so be sure to preregister to hold your spot.
URL:https://wildgingerliving.com/event/apple-season-soapmaking-workshop/
CATEGORIES:Arts and Crafts Classes
ATTACH;FMTTYPE=image/jpeg:https://wildgingerliving.com/wp-content/uploads/2026/01/Apple-Season.jpg
ORGANIZER;CN="Ginger Stoops":MAILTO:wildginger@zoominternet.net
END:VEVENT
BEGIN:VEVENT
DTSTART;TZID=America/New_York:20261105T180000
DTEND;TZID=America/New_York:20261105T200000
DTSTAMP:20260421T184730
CREATED:20260323T224418Z
LAST-MODIFIED:20260323T224418Z
UID:907-1793901600-1793908800@wildgingerliving.com
SUMMARY:It's Pumpkinfest! Needle Felted Fall Pumpkin Workshop
DESCRIPTION:Just in time to decorate your holiday table\, local fiber artist Ginger Stoops is here to teach you the basics of needle felting to create these adorable fall pumpkins. They make a great decoration for your holiday table or mantle. You will learn the skills necessary to create other projects beyond this class. Needle felting needles are extremely sharp\, so keep that in mind when signing up for this class. Needle felting is the perfect way to relax on a cool\, fall night. Needle felting needles are available to borrow for the class. All other materials are provided. \nAs always\, feel free to bring your favorite beverage or snack.
URL:https://wildgingerliving.com/event/its-pumpkinfest-needle-felted-fall-pumpkin-workshop-2/
LOCATION:Tin Can Chandelier
CATEGORIES:Arts and Crafts Classes
ATTACH;FMTTYPE=image/jpeg:https://wildgingerliving.com/wp-content/uploads/2026/03/Pumpkinfest-scaled.jpg
ORGANIZER;CN="Ginger Stoops":MAILTO:wildginger@zoominternet.net
END:VEVENT
BEGIN:VEVENT
DTSTART;TZID=America/New_York:20261130T180000
DTEND;TZID=America/New_York:20261130T200000
DTSTAMP:20260421T184730
CREATED:20260323T225258Z
LAST-MODIFIED:20260417T233926Z
UID:909-1796061600-1796068800@wildgingerliving.com
SUMMARY:It's Back Again! Needle Felt Cookie Ornament Party
DESCRIPTION:By popular demand\, this class is back for the third year in a row. It is becoming a Tin Can holiday tradition. Take a break from the holiday stress and make some precious memories while creating these cute needle felt holiday cookie ornaments for your tree or gift-giving.\nGinger walks you through the basics of making these needle-felted cookie ornaments that look good enough to eat\, only you can keep these year after year. This is a great project for beginners or seasoned needle felters. There are over 20 holiday cookie cutter shapes available\, including Santa\, snowmen\, gingerbread men\, snowflakes\, and I keep adding to my collection every year. \nNeedle felting needles and extra yarn are available to take home. All other materials are provided. \nWe will have non-alcoholic punch\, but feel free to bring your own beverage of choice. You can also bring holiday cookies to share.
URL:https://wildgingerliving.com/event/909/
LOCATION:Tin Can Chandelier
CATEGORIES:Arts and Crafts Classes
ATTACH;FMTTYPE=image/jpeg:https://wildgingerliving.com/wp-content/uploads/2026/03/IMG_1384.jpg
ORGANIZER;CN="Ginger Stoops":MAILTO:wildginger@zoominternet.net
END:VEVENT
BEGIN:VEVENT
DTSTART;TZID=America/New_York:20261207T180000
DTEND;TZID=America/New_York:20261207T200000
DTSTAMP:20260421T184730
CREATED:20260101T215357Z
LAST-MODIFIED:20260101T215357Z
UID:650-1796666400-1796673600@wildgingerliving.com
SUMMARY:Candy Cane Swirl Peppermint Soaps Workshop
DESCRIPTION:Instructor: Ginger Stoops\nPrice: $30.00 \nThese soaps are back by popular demand! In this class\, Ginger Stoops will teach you how to make your own cold-processed soap using an easy recipe that uses simple ingredients.These soap bars have a wonderful\, clean feel and excellent lather. They are made with olive oil and coconut oil\, red mica for color\, and peppermint essential oil. Ginger will teach you to do wonderful swirl soaps that are perfect for the holidays. \nIn this class\, you will take home three bars of your own creation. You will make the soaps in class\, and can then pick them up in a few days after they are ready to unmold. All materials and equipment are provided for making soap. \nThis class is for adults only due to working with lye\, which can cause severe burns if not handled properly. Please wear clothing that is appropriate for messy projects and closed-toed shoes. \nAge: 18+\nClass limited to 8\, and they fill up FAST\, so be sure to preregister to hold your spot.
URL:https://wildgingerliving.com/event/candy-cane-swirl-peppermint-soaps-workshop-2/
CATEGORIES:Arts and Crafts Classes
ATTACH;FMTTYPE=image/jpeg:https://wildgingerliving.com/wp-content/uploads/2025/06/Candy-Cane-Swirl-Soap-scaled.jpg
ORGANIZER;CN="Ginger Stoops":MAILTO:wildginger@zoominternet.net
END:VEVENT
BEGIN:VEVENT
DTSTART;TZID=America/New_York:20261210T180000
DTEND;TZID=America/New_York:20261210T200000
DTSTAMP:20260421T184730
CREATED:20260326T151625Z
LAST-MODIFIED:20260326T151625Z
UID:916-1796925600-1796932800@wildgingerliving.com
SUMMARY:It's Back Again! Needle Felt Cookie Ornament Party
DESCRIPTION:By popular demand\, this class is back for the third year in a row. It is becoming a Tin Can holiday tradition. Take a break from the holiday stress and make some precious memories while creating these cute needle felt holiday cookie ornaments for your tree or gift-giving. \nGinger walks you through the basics of making these needle-felted cookie ornaments that look good enough to eat\, only you can keep these year after year. This is a great project for beginners or seasoned needle felters. There are over 20 holiday cookie cutter shapes available\, including Santa\, snowmen\, gingerbread men\, snowflakes\, and I keep adding to my collection every year. \nNeedle felting needles and extra yarn are available to take home. All other materials are provided. \nWe will have non-alcoholic punch\, but feel free to bring your own beverage of choice. You can also bring holiday cookies to share.
URL:https://wildgingerliving.com/event/its-back-again-needle-felt-cookie-ornament-party-4/
LOCATION:Tin Can Chandelier
CATEGORIES:Arts and Crafts Classes
ATTACH;FMTTYPE=image/jpeg:https://wildgingerliving.com/wp-content/uploads/2026/03/IMG_1384.jpg
ORGANIZER;CN="Ginger Stoops":MAILTO:wildginger@zoominternet.net
END:VEVENT
END:VCALENDAR