BEGIN:VCALENDAR
VERSION:2.0
PRODID:-//Wild Ginger Living - ECPv6.15.20//NONSGML v1.0//EN
CALSCALE:GREGORIAN
METHOD:PUBLISH
X-ORIGINAL-URL:https://wildgingerliving.com
X-WR-CALDESC:Events for Wild Ginger Living
REFRESH-INTERVAL;VALUE=DURATION:PT1H
X-Robots-Tag:noindex
X-PUBLISHED-TTL:PT1H
BEGIN:VTIMEZONE
TZID:America/New_York
BEGIN:DAYLIGHT
TZOFFSETFROM:-0500
TZOFFSETTO:-0400
TZNAME:EDT
DTSTART:20240310T070000
END:DAYLIGHT
BEGIN:STANDARD
TZOFFSETFROM:-0400
TZOFFSETTO:-0500
TZNAME:EST
DTSTART:20241103T060000
END:STANDARD
BEGIN:DAYLIGHT
TZOFFSETFROM:-0500
TZOFFSETTO:-0400
TZNAME:EDT
DTSTART:20250309T070000
END:DAYLIGHT
BEGIN:STANDARD
TZOFFSETFROM:-0400
TZOFFSETTO:-0500
TZNAME:EST
DTSTART:20251102T060000
END:STANDARD
BEGIN:DAYLIGHT
TZOFFSETFROM:-0500
TZOFFSETTO:-0400
TZNAME:EDT
DTSTART:20260308T070000
END:DAYLIGHT
BEGIN:STANDARD
TZOFFSETFROM:-0400
TZOFFSETTO:-0500
TZNAME:EST
DTSTART:20261101T060000
END:STANDARD
END:VTIMEZONE
BEGIN:VEVENT
DTSTART;TZID=America/New_York:20250505T180000
DTEND;TZID=America/New_York:20250505T200000
DTSTAMP:20260421T192636
CREATED:20250402T005006Z
LAST-MODIFIED:20250402T010742Z
UID:419-1746468000-1746475200@wildgingerliving.com
SUMMARY:Loofah Soap Workshop
DESCRIPTION:Loofahs soaps are excellent for exfoliating\, and these soaps will make you feel simply luxurious. In this class\, Ginger Stoops will teach you how to make your own cold-processed soap using an easy recipe that uses simple ingredients.These soap bars have a wonderful\, clean feel and excellent lather. They are made with olive oil and coconut oil\, natural colors\, and essential oils. Ginger will teach you how to embed loofah sponges into your soaps and create some beautiful color and scent combinations. \nYou will make the soaps in class\, and can then pick them up in a few days after they are ready to unmold. You can choose from a selection of natural essential oils\, natural colorants\, and additions to make your bars unique. All materials and equipment are provided for making soap.\nThis class is for adults only due to working with lye\, which can cause severe burns if not handled properly. Please wear clothing that is appropriate for messy projects and closed-toed shoes. \nClass limited to 8\, and they fill up FAST\, so be sure to preregister to hold your spot. \nCost: $25.00\nAge: 18+
URL:https://wildgingerliving.com/event/loofah-soap-workshop/
CATEGORIES:Arts and Crafts Classes
ATTACH;FMTTYPE=image/jpeg:https://wildgingerliving.com/wp-content/uploads/2025/04/Loofah-Soaps-scaled.jpg
ORGANIZER;CN="Ginger Stoops":MAILTO:wildginger@zoominternet.net
END:VEVENT
BEGIN:VEVENT
DTSTART;TZID=America/New_York:20250430T180000
DTEND;TZID=America/New_York:20250430T200000
DTSTAMP:20260421T192636
CREATED:20250402T003512Z
LAST-MODIFIED:20250402T003512Z
UID:412-1746036000-1746043200@wildgingerliving.com
SUMMARY:Craft and Sip! Painting with Wool Series: Wool Baskets / Flameless Tea Light holders
DESCRIPTION:Craft and Sip! Painting with Wool Series: Wool Baskets / Flameless Tea Light holders\nThese gorgeous wool creations can be used as baskets or flameless tea light holders to create a cozy ambiance in the room. They are paper thin and let the light filter through beautifully. What is even more remarkable is that they are made from wool! \nWet Felting is an ancient craft that has been around for millennia\, and it is good soapy fun. You can choose from a beautiful range of wool colors to make these baskets your own or to match your decor. This workshop teaches you the basics that you can use to create your own wet felt masterpieces. Join us for a night of fun\, and you are free to bring your beverage or snacks of choice. \nSKILL LEVEL: All skill levels and great for beginners\nINCLUDED IN FEE All materials needed for project and use of tools in class are included in class fee\nNEED TO BRING Just your creativity.\nCLASS TIME: 2 Hours\nAGES: 10+\nCOST: $25 + tax
URL:https://wildgingerliving.com/event/craft-and-sip-painting-with-wool-series-wool-baskets-flameless-tea-light-holders-2/
CATEGORIES:Arts and Crafts Classes
ATTACH;FMTTYPE=image/jpeg:https://wildgingerliving.com/wp-content/uploads/2025/04/Craft-and-Sip-Painting-with-Wool-Series-Wool-Baskets-Flameless-Tea-Light-holders-scaled.jpg
ORGANIZER;CN="Ginger Stoops":MAILTO:wildginger@zoominternet.net
END:VEVENT
BEGIN:VEVENT
DTSTART;TZID=America/New_York:20250419T100000
DTEND;TZID=America/New_York:20250419T120000
DTSTAMP:20260421T192636
CREATED:20250402T004222Z
LAST-MODIFIED:20250402T004222Z
UID:417-1745056800-1745064000@wildgingerliving.com
SUMMARY:Shibori Scarf with REAL Indigo Dye - More Fun than Tye Dy Workshop
DESCRIPTION:Shibori is the ancient Japanese art of folding or stitching cloth and then dyeing it to create beautiful\, unique designs that are similar to tye dye\, only more grown up. In this class\, you will get to work with REAL natural indigo dye to create a beautiful cotton scarf that is perfect for spring and summer outfits. Indigo is a fun process because when you first dip the fabric\, it is green at first. Then as the dye is exposed to the air\, it turns the familiar blue color that you know from your favorite pair of blue jeans. This dye process has been around since the 12th century and is an excellent learning experience for all ages.\nSKILL LEVEL: All skill levels and great for beginners \nINCLUDED IN FEE All materials needed for project and use of tools in class are included in class fee.\nNEED TO BRING Just your creativity. And wear clothes you can get messy. Indigo stains!!!\nCLASS TIME: 2 Hours\nAGES: 10 +\nCOST: $25 + tax
URL:https://wildgingerliving.com/event/shibori-scarf-with-real-indigo-dye-more-fun-than-tye-dy-workshop-2/
CATEGORIES:Arts and Crafts Classes
ATTACH;FMTTYPE=image/jpeg:https://wildgingerliving.com/wp-content/uploads/2025/04/Shibori-Scarves-scaled.jpg
ORGANIZER;CN="Ginger Stoops":MAILTO:wildginger@zoominternet.net
END:VEVENT
BEGIN:VEVENT
DTSTART;TZID=America/New_York:20250416T180000
DTEND;TZID=America/New_York:20250416T200000
DTSTAMP:20260421T192636
CREATED:20250402T004039Z
LAST-MODIFIED:20250402T004039Z
UID:414-1744826400-1744833600@wildgingerliving.com
SUMMARY:Shibori Scarf with REAL Indigo Dye - More Fun than Tye Dy Workshop
DESCRIPTION:Shibori is the ancient Japanese art of folding or stitching cloth and then dyeing it to create beautiful\, unique designs that are similar to tye dye\, only more grown up. In this class\, you will get to work with REAL natural indigo dye to create a beautiful cotton scarf that is perfect for spring and summer outfits. Indigo is a fun process because when you first dip the fabric\, it is green at first. Then as the dye is exposed to the air\, it turns the familiar blue color that you know from your favorite pair of blue jeans. This dye process has been around since the 12th century and is an excellent learning experience for all ages.\nSKILL LEVEL: All skill levels and great for beginners \nINCLUDED IN FEE All materials needed for project and use of tools in class are included in class fee.\nNEED TO BRING Just your creativity. And wear clothes you can get messy. Indigo stains!!!\nCLASS TIME: 2 Hours\nAGES: 10 +\nCOST: $25 + tax
URL:https://wildgingerliving.com/event/shibori-scarf-with-real-indigo-dye-more-fun-than-tye-dy-workshop/
CATEGORIES:Arts and Crafts Classes
ATTACH;FMTTYPE=image/jpeg:https://wildgingerliving.com/wp-content/uploads/2025/04/Shibori-Scarves-scaled.jpg
ORGANIZER;CN="Ginger Stoops":MAILTO:wildginger@zoominternet.net
END:VEVENT
BEGIN:VEVENT
DTSTART;TZID=America/New_York:20250414T180000
DTEND;TZID=America/New_York:20250414T200000
DTSTAMP:20260421T192636
CREATED:20250402T003109Z
LAST-MODIFIED:20250402T003540Z
UID:409-1744653600-1744660800@wildgingerliving.com
SUMMARY:Craft and Sip! Painting with Wool Series: Wool Baskets / Flameless Tea Light holders
DESCRIPTION:Craft and Sip! Painting with Wool Series: Wool Baskets / Flameless Tea Light holders\nThese gorgeous wool creations can be used as baskets or flameless tea light holders to create a cozy ambiance in the room. They are paper thin and let the light filter through beautifully. What is even more remarkable is that they are made from wool! \nWet Felting is an ancient craft that has been around for millennia\, and it is good soapy fun. You can choose from a beautiful range of wool colors to make these baskets your own or to match your decor. This workshop teaches you the basics that you can use to create your own wet felt masterpieces. Join us for a night of fun\, and you are free to bring your beverage or snacks of choice. \nSKILL LEVEL: All skill levels and great for beginners\nINCLUDED IN FEE All materials needed for project and use of tools in class are included in class fee\nNEED TO BRING Just your creativity.\nCLASS TIME: 2 Hours\nAGES: 10+\nCOST: $25 + tax
URL:https://wildgingerliving.com/event/craft-and-sip-painting-with-wool-series-wool-baskets-flameless-tea-light-holders/
CATEGORIES:Arts and Crafts Classes
ATTACH;FMTTYPE=image/jpeg:https://wildgingerliving.com/wp-content/uploads/2025/04/Craft-and-Sip-Painting-with-Wool-Series-Wool-Baskets-Flameless-Tea-Light-holders-scaled.jpg
ORGANIZER;CN="Ginger Stoops":MAILTO:wildginger@zoominternet.net
END:VEVENT
BEGIN:VEVENT
DTSTART;TZID=America/New_York:20250407T180000
DTEND;TZID=America/New_York:20250407T200000
DTSTAMP:20260421T192636
CREATED:20250402T002709Z
LAST-MODIFIED:20250402T003151Z
UID:407-1744048800-1744056000@wildgingerliving.com
SUMMARY:Cupcake Soap Workshop
DESCRIPTION:These cupcakes might look good enough to eat\, but they are the most adorable soaps! In this class\, Ginger Stoops will teach you how to make your own cold-processed soap using an easy recipe that uses simple ingredients.These soap bars have a wonderful\, clean feel and excellent lather. They are made with olive oil and coconut oil\, natural colors\, and essential oils. Ginger will teach you how to pipe designs onto your soaps using basic cake decorating techniques. You can also choose from a range of colors and essential oils to make your own “sweet treats” \nYou will make the soaps in class\, and can then pick them up in a few days after they are ready to unmold. You can choose from a selection of natural essential oils\, natural colorants\, and additions to make your bars unique. All materials and equipment are provided for making soap. \nThis class is for adults only due to working with lye\, which can cause severe burns if not handled properly. Please wear clothing that is appropriate for messy projects and closed-toed shoes. \nClass limited to 8\, and they fill up FAST\, so be sure to preregister to hold your spot. \nCost: $25.00\nAge: 18+
URL:https://wildgingerliving.com/event/cupcake-soap-workshop/
CATEGORIES:Arts and Crafts Classes
ATTACH;FMTTYPE=image/jpeg:https://wildgingerliving.com/wp-content/uploads/2025/04/Cupcake-Soaps-scaled.jpg
ORGANIZER;CN="Ginger Stoops":MAILTO:wildginger@zoominternet.net
END:VEVENT
END:VCALENDAR