BEGIN:VCALENDAR
VERSION:2.0
PRODID:-//Wild Ginger Living - ECPv6.15.20//NONSGML v1.0//EN
CALSCALE:GREGORIAN
METHOD:PUBLISH
X-ORIGINAL-URL:https://wildgingerliving.com
X-WR-CALDESC:Events for Wild Ginger Living
REFRESH-INTERVAL;VALUE=DURATION:PT1H
X-Robots-Tag:noindex
X-PUBLISHED-TTL:PT1H
BEGIN:VTIMEZONE
TZID:America/New_York
BEGIN:DAYLIGHT
TZOFFSETFROM:-0500
TZOFFSETTO:-0400
TZNAME:EDT
DTSTART:20240310T070000
END:DAYLIGHT
BEGIN:STANDARD
TZOFFSETFROM:-0400
TZOFFSETTO:-0500
TZNAME:EST
DTSTART:20241103T060000
END:STANDARD
BEGIN:DAYLIGHT
TZOFFSETFROM:-0500
TZOFFSETTO:-0400
TZNAME:EDT
DTSTART:20250309T070000
END:DAYLIGHT
BEGIN:STANDARD
TZOFFSETFROM:-0400
TZOFFSETTO:-0500
TZNAME:EST
DTSTART:20251102T060000
END:STANDARD
BEGIN:DAYLIGHT
TZOFFSETFROM:-0500
TZOFFSETTO:-0400
TZNAME:EDT
DTSTART:20260308T070000
END:DAYLIGHT
BEGIN:STANDARD
TZOFFSETFROM:-0400
TZOFFSETTO:-0500
TZNAME:EST
DTSTART:20261101T060000
END:STANDARD
END:VTIMEZONE
BEGIN:VEVENT
DTSTART;TZID=America/New_York:20251211T180000
DTEND;TZID=America/New_York:20251211T193000
DTSTAMP:20260421T170958
CREATED:20251125T221912Z
LAST-MODIFIED:20251125T221912Z
UID:577-1765476000-1765481400@wildgingerliving.com
SUMMARY:It's Back Again! Needle Felt Cookie Ornament Party
DESCRIPTION:Take a break from the holiday stress and make some precious memories while creating these cute needle felt holiday cookie ornaments for your tree or gift-giving. Ginger walks you through the basics of making these needle-felted cookie ornaments that look good enough to eat\, only you can keep these year after year. This is a great project for beginners or seasoned needle felters. There are over 20 holiday cookie cutter shapes available\, including Santa\, snowmen\, gingerbread men\, and snowflakes. We also have a gnome\, dragon\, and others. Needle felting needles are available to borrow for the class. All other materials are provided.
URL:https://wildgingerliving.com/event/its-back-again-needle-felt-cookie-ornament-party/
CATEGORIES:Arts and Crafts Classes
ATTACH;FMTTYPE=image/jpeg:https://wildgingerliving.com/wp-content/uploads/2025/11/IMG_1384.jpg
ORGANIZER;CN="Ginger Stoops":MAILTO:wildginger@zoominternet.net
END:VEVENT
BEGIN:VEVENT
DTSTART;TZID=America/New_York:20251214T110000
DTEND;TZID=America/New_York:20251214T120000
DTSTAMP:20260421T170958
CREATED:20251125T222905Z
LAST-MODIFIED:20251125T222905Z
UID:584-1765710000-1765713600@wildgingerliving.com
SUMMARY:Holiday Craft Hour with Ginger!
DESCRIPTION:GREAT GIFTS FOR GRANDPARENTS OR THAT FAVORITE AUNT OR UNCLE! \nBring in the holiday season with this adorable Christmas tree painting complete pom poms! Ginger will walk your child through creating this wonderful holiday decoration with acrylic paints and yarn that the entire family will enjoy. Children will leave with a completed painting ready to hang or give as a gift. \nParents can either drop off your child and return at the end of class or stay and join in on the fun. \nAll materials provided.
URL:https://wildgingerliving.com/event/holiday-craft-hour-with-ginger/
CATEGORIES:Arts and Crafts Classes
ATTACH;FMTTYPE=image/jpeg:https://wildgingerliving.com/wp-content/uploads/2025/11/IMG_1383-scaled.jpg
ORGANIZER;CN="Ginger Stoops":MAILTO:wildginger@zoominternet.net
END:VEVENT
BEGIN:VEVENT
DTSTART;TZID=America/New_York:20251215T123000
DTEND;TZID=America/New_York:20251215T133000
DTSTAMP:20260421T170958
CREATED:20251125T223724Z
LAST-MODIFIED:20251125T223724Z
UID:591-1765801800-1765805400@wildgingerliving.com
SUMMARY:Kidz Crochet Class
DESCRIPTION:Does your child want to give crochet a try? This is the perfect beginner project. These adorable gnome and Christdmas tree ornaments are just in time to hang on the family tree\, or to give as special gifts. Ginger has taught hundreds of people to crochet. Her way of teaching makes crochet accessible to those who are still learning fine motor skills to those that might have a little crochet under their belt. This class uses big hooks and big yarn for the younger ones. Older children can try something a little more challenging. \nClass size is limited to 6 so that Ginger can give each student the attention they need. \nAll yarn is provided and we have hooks to borrow during the class.
URL:https://wildgingerliving.com/event/kidz-crochet-class/
CATEGORIES:Arts and Crafts Classes
ATTACH;FMTTYPE=image/jpeg:https://wildgingerliving.com/wp-content/uploads/2025/11/IMG_1386-scaled.jpg
ORGANIZER;CN="Ginger Stoops":MAILTO:wildginger@zoominternet.net
END:VEVENT
BEGIN:VEVENT
DTSTART;TZID=America/New_York:20251218T153000
DTEND;TZID=America/New_York:20251218T170000
DTSTAMP:20260421T170958
CREATED:20251125T222225Z
LAST-MODIFIED:20251125T222225Z
UID:580-1766071800-1766077200@wildgingerliving.com
SUMMARY:It's Back Again! Needle Felt Cookie Ornament Party
DESCRIPTION:Take a break from the holiday stress and make some precious memories while creating these cute needle felt holiday cookie ornaments for your tree or gift-giving. Ginger walks you through the basics of making these needle-felted cookie ornaments that look good enough to eat\, only you can keep these year after year. This is a great project for beginners or seasoned needle felters. There are over 20 holiday cookie cutter shapes available\, including Santa\, snowmen\, gingerbread men\, and snowflakes. We also have a gnome\, dragon\, and others. Needle felting needles are available to borrow for the class. All other materials are provided.
URL:https://wildgingerliving.com/event/its-back-again-needle-felt-cookie-ornament-party-2/
CATEGORIES:Arts and Crafts Classes
ATTACH;FMTTYPE=image/jpeg:https://wildgingerliving.com/wp-content/uploads/2025/11/IMG_1384.jpg
ORGANIZER;CN="Ginger Stoops":MAILTO:wildginger@zoominternet.net
END:VEVENT
BEGIN:VEVENT
DTSTART;TZID=America/New_York:20251220T100000
DTEND;TZID=America/New_York:20251220T113000
DTSTAMP:20260421T170958
CREATED:20251125T222500Z
LAST-MODIFIED:20251125T222500Z
UID:582-1766224800-1766230200@wildgingerliving.com
SUMMARY:It's Back Again! Needle Felt Cookie Ornament Party
DESCRIPTION:Take a break from the holiday stress and make some precious memories while creating these cute needle felt holiday cookie ornaments for your tree or gift-giving. Ginger walks you through the basics of making these needle-felted cookie ornaments that look good enough to eat\, only you can keep these year after year. This is a great project for beginners or seasoned needle felters. There are over 20 holiday cookie cutter shapes available\, including Santa\, snowmen\, gingerbread men\, and snowflakes. We also have a gnome\, dragon\, and others. Needle felting needles are available to borrow for the class. All other materials are provided.
URL:https://wildgingerliving.com/event/its-back-again-needle-felt-cookie-ornament-party-3/
CATEGORIES:Arts and Crafts Classes
ATTACH;FMTTYPE=image/jpeg:https://wildgingerliving.com/wp-content/uploads/2025/11/IMG_1384.jpg
ORGANIZER;CN="Ginger Stoops":MAILTO:wildginger@zoominternet.net
END:VEVENT
BEGIN:VEVENT
DTSTART;TZID=America/New_York:20251221T110000
DTEND;TZID=America/New_York:20251221T120000
DTSTAMP:20260421T170958
CREATED:20251125T223119Z
LAST-MODIFIED:20251125T224525Z
UID:587-1766314800-1766318400@wildgingerliving.com
SUMMARY:Holiday Craft Hour with Ginger!
DESCRIPTION:GREAT GIFTS FOR GRANDPARENTS OR THAT FAVORITE AUNT OR UNCLE! \nBring in the holiday season with this adorable Christmas tree painting complete pom poms! Ginger will walk your child through creating this wonderful holiday decoration with acrylic paints and yarn that the entire family will enjoy. Children will leave with a completed painting ready to hang or give as a gift. \nParents can either drop off your child and return at the end of class or stay and join in on the fun. \nAll materials provided.
URL:https://wildgingerliving.com/event/holiday-craft-hour-with-ginger-2/
CATEGORIES:Arts and Crafts Classes
ATTACH;FMTTYPE=image/jpeg:https://wildgingerliving.com/wp-content/uploads/2025/11/IMG_1383-scaled.jpg
ORGANIZER;CN="Ginger Stoops":MAILTO:wildginger@zoominternet.net
END:VEVENT
BEGIN:VEVENT
DTSTART;TZID=America/New_York:20251221T120000
DTEND;TZID=America/New_York:20251221T130000
DTSTAMP:20260421T170958
CREATED:20251125T223935Z
LAST-MODIFIED:20251125T223935Z
UID:594-1766318400-1766322000@wildgingerliving.com
SUMMARY:Kidz Crochet Class
DESCRIPTION:Does your child want to give crochet a try? This is the perfect beginner project. These adorable gnome and Christdmas tree ornaments are just in time to hang on the family tree\, or to give as special gifts. Ginger has taught hundreds of people to crochet. Her way of teaching makes crochet accessible to those who are still learning fine motor skills to those that might have a little crochet under their belt. This class uses big hooks and big yarn for the younger ones. Older children can try something a little more challenging. \nClass size is limited to 6 so that Ginger can give each student the attention they need. \nAll yarn is provided and we have hooks to borrow during the class.
URL:https://wildgingerliving.com/event/kidz-crochet-class-2/
CATEGORIES:Arts and Crafts Classes
ATTACH;FMTTYPE=image/jpeg:https://wildgingerliving.com/wp-content/uploads/2025/11/IMG_1386-scaled.jpg
ORGANIZER;CN="Ginger Stoops":MAILTO:wildginger@zoominternet.net
END:VEVENT
BEGIN:VEVENT
DTSTART;TZID=America/New_York:20251222T160000
DTEND;TZID=America/New_York:20251222T170000
DTSTAMP:20260421T170958
CREATED:20251125T223356Z
LAST-MODIFIED:20251125T223356Z
UID:589-1766419200-1766422800@wildgingerliving.com
SUMMARY:Holiday Craft Hour with Ginger!
DESCRIPTION:GREAT GIFTS FOR GRANDPARENTS OR THAT FAVORITE AUNT OR UNCLE! \nBring in the holiday season with this adorable Christmas tree painting complete pom poms! Ginger will walk your child through creating this wonderful holiday decoration with acrylic paints and yarn that the entire family will enjoy. Children will leave with a completed painting ready to hang or give as a gift. \nParents can either drop off your child and return at the end of class or stay and join in on the fun. \nAll materials provided.
URL:https://wildgingerliving.com/event/holiday-craft-hour-with-ginger-3/
CATEGORIES:Arts and Crafts Classes
ATTACH;FMTTYPE=image/jpeg:https://wildgingerliving.com/wp-content/uploads/2025/11/IMG_1383-scaled.jpg
ORGANIZER;CN="Ginger Stoops":MAILTO:wildginger@zoominternet.net
END:VEVENT
BEGIN:VEVENT
DTSTART;TZID=America/New_York:20251227T100000
DTEND;TZID=America/New_York:20251227T120000
DTSTAMP:20260421T170958
CREATED:20251125T224444Z
LAST-MODIFIED:20251125T224444Z
UID:596-1766829600-1766836800@wildgingerliving.com
SUMMARY:Cozy Winter Headband or Fingerless Gloves
DESCRIPTION:Have you ever wanted to learn to knit? If you have tried and failed or are a complete beginner\, local fiber artist Ginger Stoops is a patient teacher who can help. In this class\, you will learn the basics and complete a pair of beginner-friendly warm fingerless gloves or a winter headband. Many colors of yarn available. \nThey are knitted with bulky #6 yarn or doubled #3 yarn that is perfect for beginners. All yarn is provided\, and we will have needles and other necessary equipment for you to borrow. If you wish to bring your own needles\, this project uses size 13.
URL:https://wildgingerliving.com/event/cozy-winter-headband-or-fingerless-gloves/
CATEGORIES:Arts and Crafts Classes
ATTACH;FMTTYPE=image/jpeg:https://wildgingerliving.com/wp-content/uploads/2025/11/IMG_1385-scaled.jpg
ORGANIZER;CN="Ginger Stoops":MAILTO:wildginger@zoominternet.net
END:VEVENT
END:VCALENDAR