BEGIN:VCALENDAR
VERSION:2.0
PRODID:-//Wild Ginger Living - ECPv6.15.20//NONSGML v1.0//EN
CALSCALE:GREGORIAN
METHOD:PUBLISH
X-WR-CALNAME:Wild Ginger Living
X-ORIGINAL-URL:https://wildgingerliving.com
X-WR-CALDESC:Events for Wild Ginger Living
REFRESH-INTERVAL;VALUE=DURATION:PT1H
X-Robots-Tag:noindex
X-PUBLISHED-TTL:PT1H
BEGIN:VTIMEZONE
TZID:America/New_York
BEGIN:DAYLIGHT
TZOFFSETFROM:-0500
TZOFFSETTO:-0400
TZNAME:EDT
DTSTART:20250309T070000
END:DAYLIGHT
BEGIN:STANDARD
TZOFFSETFROM:-0400
TZOFFSETTO:-0500
TZNAME:EST
DTSTART:20251102T060000
END:STANDARD
BEGIN:DAYLIGHT
TZOFFSETFROM:-0500
TZOFFSETTO:-0400
TZNAME:EDT
DTSTART:20260308T070000
END:DAYLIGHT
BEGIN:STANDARD
TZOFFSETFROM:-0400
TZOFFSETTO:-0500
TZNAME:EST
DTSTART:20261101T060000
END:STANDARD
BEGIN:DAYLIGHT
TZOFFSETFROM:-0500
TZOFFSETTO:-0400
TZNAME:EDT
DTSTART:20270314T070000
END:DAYLIGHT
BEGIN:STANDARD
TZOFFSETFROM:-0400
TZOFFSETTO:-0500
TZNAME:EST
DTSTART:20271107T060000
END:STANDARD
END:VTIMEZONE
BEGIN:VEVENT
DTSTART;TZID=America/New_York:20260319T153000
DTEND;TZID=America/New_York:20260319T183000
DTSTAMP:20260421T141939
CREATED:20260211T192225Z
LAST-MODIFIED:20260211T192225Z
UID:800-1773934200-1773945000@wildgingerliving.com
SUMMARY:Make Your Own Yarn!!!!
DESCRIPTION:Do you knit\, crochet\, or weave? Wouldn’t it be wonderful to be able to spin your own yarn for your creations? If you have ever wondered how to spin yarn\, this is the workshop for you. Ginger has been spinning for 40+ years and can show you how to get started. In this workshop\, you will use a drop spindle to learn the basics of drafting and twist. You will take home a drop spindle and raw wool to practice. \nGinger will also bring in a few spinning wheels for you to try once you get the hang of it. This is a gateway workshop to other delectable topics in spinning\, like using a spinning wheel\, designing yarn for a specific project\, and spinning ultra-soft exotics like silk\, angora\, and alpaca. It makes a great homeschool project. Class Sizes are small\, so you get lots of one-on-one instruction.
URL:https://wildgingerliving.com/event/make-your-own-yarn/
LOCATION:Tin Can Chandelier
CATEGORIES:Arts and Crafts Classes
ATTACH;FMTTYPE=image/jpeg:https://wildgingerliving.com/wp-content/uploads/2026/02/Spinning-Class-scaled.jpg
ORGANIZER;CN="Ginger Stoops":MAILTO:wildginger@zoominternet.net
END:VEVENT
END:VCALENDAR