BEGIN:VCALENDAR
VERSION:2.0
PRODID:-//Wild Ginger Living - ECPv6.15.20//NONSGML v1.0//EN
CALSCALE:GREGORIAN
METHOD:PUBLISH
X-WR-CALNAME:Wild Ginger Living
X-ORIGINAL-URL:https://wildgingerliving.com
X-WR-CALDESC:Events for Wild Ginger Living
REFRESH-INTERVAL;VALUE=DURATION:PT1H
X-Robots-Tag:noindex
X-PUBLISHED-TTL:PT1H
BEGIN:VTIMEZONE
TZID:America/New_York
BEGIN:DAYLIGHT
TZOFFSETFROM:-0500
TZOFFSETTO:-0400
TZNAME:EDT
DTSTART:20240310T070000
END:DAYLIGHT
BEGIN:STANDARD
TZOFFSETFROM:-0400
TZOFFSETTO:-0500
TZNAME:EST
DTSTART:20241103T060000
END:STANDARD
BEGIN:DAYLIGHT
TZOFFSETFROM:-0500
TZOFFSETTO:-0400
TZNAME:EDT
DTSTART:20250309T070000
END:DAYLIGHT
BEGIN:STANDARD
TZOFFSETFROM:-0400
TZOFFSETTO:-0500
TZNAME:EST
DTSTART:20251102T060000
END:STANDARD
BEGIN:DAYLIGHT
TZOFFSETFROM:-0500
TZOFFSETTO:-0400
TZNAME:EDT
DTSTART:20260308T070000
END:DAYLIGHT
BEGIN:STANDARD
TZOFFSETFROM:-0400
TZOFFSETTO:-0500
TZNAME:EST
DTSTART:20261101T060000
END:STANDARD
END:VTIMEZONE
BEGIN:VEVENT
DTSTART;TZID=America/New_York:20250707T180000
DTEND;TZID=America/New_York:20250707T200000
DTSTAMP:20260422T064303
CREATED:20250605T154900Z
LAST-MODIFIED:20250605T154900Z
UID:524-1751911200-1751918400@wildgingerliving.com
SUMMARY:Make Your Own Pure Coconut Shampoo Bars
DESCRIPTION:In this class\, Ginger Stoops will teach you how to make your own cold-processed soap using an easy recipe that uses coconut oil\, and your choice of natural colors and essential oils for fragrance. These soap bars have a wonderful\, clean feel and excellent lather. \nYou will make the soaps in class\, and can then pick them up in a few days after they are ready to unmold. You can choose from a selection of natural essential oils\, natural colorants\, and additions to make your bars unique. All materials and equipment are provided for making soap. \nThis class is for adults only due to working with lye\, which can cause severe burns if not handled properly. Please wear clothing that is appropriate for messy projects and closed-toed shoes. \nClass limited to 8\, and they fill up FAST\, so be sure to preregister to hold your spot. \nAge: 18+
URL:https://wildgingerliving.com/event/make-your-own-pure-coconut-shampoo-bars-2/
CATEGORIES:Arts and Crafts Classes
ATTACH;FMTTYPE=image/jpeg:https://wildgingerliving.com/wp-content/uploads/2025/04/Pure-Coconut-Shampoo-Bars-scaled.jpg
ORGANIZER;CN="Ginger Stoops":MAILTO:wildginger@zoominternet.net
END:VEVENT
BEGIN:VEVENT
DTSTART;TZID=America/New_York:20250721T180000
DTEND;TZID=America/New_York:20250721T200000
DTSTAMP:20260422T064303
CREATED:20250522T191136Z
LAST-MODIFIED:20250522T191136Z
UID:509-1753120800-1753128000@wildgingerliving.com
SUMMARY:Soapmaking 101
DESCRIPTION:Did you ever want to learn to make your own soap? In this class\, Ginger will teach you how to make your own soap using a simple recipe. This soap has a wonderful lather and leaves your skin feeling clean with no waxy residue. It is a favorite among her customers\, and you will learn her secrets. In this class\, you will make three bars of soap. You can choose from a selection of natural essential oils\, natural colorants\, and additions to make your bars unique. All materials and equipment are provided for making soap. \nYou will make the soaps in class\, and can then pick them up in a few days after they are ready to unmold. \nClasses are $30.00 per person. You must be 18 or older to take these classes\, because you will be working with lye\, which can cause burns if not handled properly. But don’t worry\, Ginger will show you how to do it safely. Wear clothing that is appropriate for messy projects and closed-toed shoes\, and get ready for some sudsy fun! \nEach class only has 8 spots available\, and they fill up fast\, so reserve your spot soon.
URL:https://wildgingerliving.com/event/soapmaking-101/
LOCATION:Mind\, Body & Spirit -Metaphysical Shop\, 44 1/2 S Main St\, Mt. Gilead\, OH\, 43338\, United States
CATEGORIES:Arts and Crafts Classes
ATTACH;FMTTYPE=image/png:https://wildgingerliving.com/wp-content/uploads/2025/05/Soapmaking-101a.png
ORGANIZER;CN="Ginger Stoops":MAILTO:wildginger@zoominternet.net
END:VEVENT
END:VCALENDAR