BEGIN:VCALENDAR
VERSION:2.0
PRODID:-//Wild Ginger Living - ECPv6.15.20//NONSGML v1.0//EN
CALSCALE:GREGORIAN
METHOD:PUBLISH
X-WR-CALNAME:Wild Ginger Living
X-ORIGINAL-URL:https://wildgingerliving.com
X-WR-CALDESC:Events for Wild Ginger Living
REFRESH-INTERVAL;VALUE=DURATION:PT1H
X-Robots-Tag:noindex
X-PUBLISHED-TTL:PT1H
BEGIN:VTIMEZONE
TZID:America/New_York
BEGIN:DAYLIGHT
TZOFFSETFROM:-0500
TZOFFSETTO:-0400
TZNAME:EDT
DTSTART:20240310T070000
END:DAYLIGHT
BEGIN:STANDARD
TZOFFSETFROM:-0400
TZOFFSETTO:-0500
TZNAME:EST
DTSTART:20241103T060000
END:STANDARD
BEGIN:DAYLIGHT
TZOFFSETFROM:-0500
TZOFFSETTO:-0400
TZNAME:EDT
DTSTART:20250309T070000
END:DAYLIGHT
BEGIN:STANDARD
TZOFFSETFROM:-0400
TZOFFSETTO:-0500
TZNAME:EST
DTSTART:20251102T060000
END:STANDARD
BEGIN:DAYLIGHT
TZOFFSETFROM:-0500
TZOFFSETTO:-0400
TZNAME:EDT
DTSTART:20260308T070000
END:DAYLIGHT
BEGIN:STANDARD
TZOFFSETFROM:-0400
TZOFFSETTO:-0500
TZNAME:EST
DTSTART:20261101T060000
END:STANDARD
END:VTIMEZONE
BEGIN:VEVENT
DTSTART;TZID=America/New_York:20251006T180000
DTEND;TZID=America/New_York:20251006T200000
DTSTAMP:20260421T204112
CREATED:20250605T160157Z
LAST-MODIFIED:20250605T160157Z
UID:533-1759773600-1759780800@wildgingerliving.com
SUMMARY:Halloween Jack O Lantern Soap Workshop
DESCRIPTION:These adorable Jack-O-Lantern soaps are just in time for Halloween.  In this class\, Ginger Stoops will teach you how to make your own cold-processed soap using an easy recipe that uses simple ingredients.These soap bars have a wonderful\, clean feel and excellent lather. They are made with olive oil and coconut oil\, and natural colors and fragrances. Ginger will teach you how to cut your own Jack-O-Lantern faces from black soap slabs to embed in your soaps. You can also choose from a range of colors and essential oils to make your own combinations of “sweet treats” \nYou will make the soaps in class\, and can then pick them up in a few days after they are ready to unmold. You can choose from a selection of natural essential oils\, natural colorants\, and additions to make your bars unique. All materials and equipment are provided for making soap. \nThis class is for adults only due to working with lye\, which can cause severe burns if not handled properly. Please wear clothing that is appropriate for messy projects and closed-toed shoes. \nAge: 18+ \nClass limited to 8\, and they fill up FAST\, so be sure to preregister to hold your spot.
URL:https://wildgingerliving.com/event/halloween-jack-o-lantern-soap-workshop/
CATEGORIES:Arts and Crafts Classes
ATTACH;FMTTYPE=image/jpeg:https://wildgingerliving.com/wp-content/uploads/2025/06/Jack-O-Lantern-Soaps-scaled.jpg
ORGANIZER;CN="Ginger Stoops":MAILTO:wildginger@zoominternet.net
END:VEVENT
END:VCALENDAR