BEGIN:VCALENDAR
VERSION:2.0
PRODID:-//Wild Ginger Living - ECPv6.15.20//NONSGML v1.0//EN
CALSCALE:GREGORIAN
METHOD:PUBLISH
X-WR-CALNAME:Wild Ginger Living
X-ORIGINAL-URL:https://wildgingerliving.com
X-WR-CALDESC:Events for Wild Ginger Living
REFRESH-INTERVAL;VALUE=DURATION:PT1H
X-Robots-Tag:noindex
X-PUBLISHED-TTL:PT1H
BEGIN:VTIMEZONE
TZID:America/New_York
BEGIN:DAYLIGHT
TZOFFSETFROM:-0500
TZOFFSETTO:-0400
TZNAME:EDT
DTSTART:20250309T070000
END:DAYLIGHT
BEGIN:STANDARD
TZOFFSETFROM:-0400
TZOFFSETTO:-0500
TZNAME:EST
DTSTART:20251102T060000
END:STANDARD
BEGIN:DAYLIGHT
TZOFFSETFROM:-0500
TZOFFSETTO:-0400
TZNAME:EDT
DTSTART:20260308T070000
END:DAYLIGHT
BEGIN:STANDARD
TZOFFSETFROM:-0400
TZOFFSETTO:-0500
TZNAME:EST
DTSTART:20261101T060000
END:STANDARD
BEGIN:DAYLIGHT
TZOFFSETFROM:-0500
TZOFFSETTO:-0400
TZNAME:EDT
DTSTART:20270314T070000
END:DAYLIGHT
BEGIN:STANDARD
TZOFFSETFROM:-0400
TZOFFSETTO:-0500
TZNAME:EST
DTSTART:20271107T060000
END:STANDARD
END:VTIMEZONE
BEGIN:VEVENT
DTSTART;TZID=America/New_York:20260601T180000
DTEND;TZID=America/New_York:20260601T200000
DTSTAMP:20260421T141534
CREATED:20260101T211818Z
LAST-MODIFIED:20260101T211818Z
UID:633-1780336800-1780344000@wildgingerliving.com
SUMMARY:Summer Citrus: Soapmaking Workshop
DESCRIPTION:Scent of the Month: Lemon Lime. The uplifting citrus scent of this soap is refreshing and energizing. \nInstructor: Ginger Stoops\nPrice: $30.00 \nThese soaps have a wonderful lemon-lime scent and are infused with fresh exfoliating citrus peel. In this class\, Ginger Stoops will teach you how to make your own cold-processed soap using an easy recipe that uses simple ingredients. These soap bars have a wonderful\, clean feel and excellent lather. They are made with olive oil and coconut oil\, natural clays\, and natural micas for color. \nIn this class\, you will take home three – four bars of your own creation\, depending on the mold you choose. You will make the soaps in class\, and can then pick them up in a few days after they are ready to unmold. All materials and equipment are provided for making soap. \nThis class is for adults only due to working with lye\, which can cause severe burns if not handled properly. Please wear clothing that is appropriate for messy projects and closed-toed shoes. \nAge: 18+\nClass limited to 8\, and they fill up FAST\, so be sure to preregister to hold your spot.
URL:https://wildgingerliving.com/event/summer-citrus-soapmaking-workshop/
CATEGORIES:Arts and Crafts Classes
ATTACH;FMTTYPE=image/jpeg:https://wildgingerliving.com/wp-content/uploads/2026/01/Summer-Citrus-June-26-scaled.jpg
ORGANIZER;CN="Ginger Stoops":MAILTO:wildginger@zoominternet.net
END:VEVENT
BEGIN:VEVENT
DTSTART;TZID=America/New_York:20260604T180000
DTEND;TZID=America/New_York:20260604T200000
DTSTAMP:20260421T141534
CREATED:20260410T180333Z
LAST-MODIFIED:20260410T180333Z
UID:968-1780596000-1780603200@wildgingerliving.com
SUMMARY:In the Mud Room with Ginger - Coil Succulent Planter
DESCRIPTION:These adorable succulent pots are over social media\, and you will learn to make your own during this class. You will learn proper techniques for creating handbuilt coil pots that have an ancient feel. Ginger will walk you through the process step-by-step. This is an excellent workshop for those who want to try handbuilding with clay or for those who wish to improve their technique. \nYou will create the pot class time and come back in a few weeks to bring it to life with the many glazing options we have at the Tin Can Chandelier. Let’s get muddy!
URL:https://wildgingerliving.com/event/in-the-mud-room-with-ginger-coil-succulent-planter/
LOCATION:Tin Can Chandelier
CATEGORIES:Arts and Crafts Classes
ATTACH;FMTTYPE=image/jpeg:https://wildgingerliving.com/wp-content/uploads/2026/04/IMG_2197-scaled.jpg
ORGANIZER;CN="Ginger Stoops":MAILTO:wildginger@zoominternet.net
END:VEVENT
BEGIN:VEVENT
DTSTART;TZID=America/New_York:20260611T173000
DTEND;TZID=America/New_York:20260611T203000
DTSTAMP:20260421T141534
CREATED:20260211T192713Z
LAST-MODIFIED:20260211T192713Z
UID:803-1781199000-1781209800@wildgingerliving.com
SUMMARY:Make Your Own Yarn!!!!
DESCRIPTION:Do you knit\, crochet\, or weave? Wouldn’t it be wonderful to be able to spin your own yarn for your creations? If you have ever wondered how to spin yarn\, this is the workshop for you. Ginger has been spinning for 40+ years and can show you how to get started. In this workshop\, you will use a drop spindle to learn the basics of drafting and twist. You will take home a drop spindle and raw wool to practice. \nGinger will also bring in a few spinning wheels for you to try once you get the hang of it. This is a gateway workshop to other delectable topics in spinning\, like using a spinning wheel\, designing yarn for a specific project\, and spinning ultra-soft exotics like silk\, angora\, and alpaca. It makes a great homeschool project. Class Sizes are small\, so you get lots of one-on-one instruction.
URL:https://wildgingerliving.com/event/make-your-own-yarn-2/
LOCATION:Tin Can Chandelier
CATEGORIES:Arts and Crafts Classes
ATTACH;FMTTYPE=image/jpeg:https://wildgingerliving.com/wp-content/uploads/2026/02/Spinning-Class-scaled.jpg
ORGANIZER;CN="Ginger Stoops":MAILTO:wildginger@zoominternet.net
END:VEVENT
BEGIN:VEVENT
DTSTART;TZID=America/New_York:20260612T180000
DTEND;TZID=America/New_York:20260612T200000
DTSTAMP:20260421T141534
CREATED:20260410T173058Z
LAST-MODIFIED:20260410T173058Z
UID:949-1781287200-1781294400@wildgingerliving.com
SUMMARY:Uncorked Painting with Ginger: FINGERPAINTED Sunset
DESCRIPTION:Yes\, you read that right. Ginger puts the fun in fine art with this relaxing paint and sip workshop where we will learn fingepainting techniques to create a vibrant impressionist-style sunset. We all loved fingerpainting as kids\, and that is what makes this grown-up version so fun. \nPainting is an excellent way to relax and enjoy an evening with some old friends\, or to make a few new ones. Anyone can learn\, and GInger makes it easy. This fun 2-hour workshop is perfect for the beginner to those more advanced in acrylic painting. In this guided workshop\, you can paint and sip at your own pace in a relaxed\, upbeat environment. It is perfect for a party\, girl’s night out\, or the perfect date night. \nFeel free to bring your own beverage of choice\, or any food or snacks that you prefer. We will provide cups\, corkscrews\, plates\, and silverware. Come join us fun evening!
URL:https://wildgingerliving.com/event/uncorked-painting-with-ginger-fingerpainted-sunset/
LOCATION:Tin Can Chandelier
CATEGORIES:Arts and Crafts Classes
ATTACH;FMTTYPE=image/jpeg:https://wildgingerliving.com/wp-content/uploads/2026/04/IMG_2180-scaled.jpeg
ORGANIZER;CN="Ginger Stoops":MAILTO:wildginger@zoominternet.net
END:VEVENT
BEGIN:VEVENT
DTSTART;TZID=America/New_York:20260615T180000
DTEND;TZID=America/New_York:20260615T200000
DTSTAMP:20260421T141534
CREATED:20260122T171253Z
LAST-MODIFIED:20260122T171253Z
UID:691-1781546400-1781553600@wildgingerliving.com
SUMMARY:Soapmaking - Make Your Own Dish Soap Bar!!!
DESCRIPTION:I have been back in the soap lab again\, and I have to share this one with you! I was looking for a more natural alternative to my favorite grease-fighting dishwashing detergents. I looked at several recipes and did not like them\, so I created my own\, and it works! I have used this soap on pans with tough stains\, and they came off so that they looked like new. This soap is lathery but  does not lather as much as commercial soaps. We all know that lather is just for looks and is not what does the cleaning. The bottom line is that it works! \nThis soap can be bare bones with no scents or colors\, but I will have a selection of plant-based scents and natural clays to add if you like. \nIn this class\, you will take home three bars of your own dish soap. You will make the soaps in class\, and can then pick them up in a few days after they are ready to unmold. All materials and equipment are provided for making soap. \nThis class is for adults only due to working with lye\, which can cause severe burns if not handled properly. Please wear clothing that is appropriate for messy projects and closed-toed shoes. \nAge: 18+\nClass limited to 8\, and they fill up FAST\, so be sure to preregister to hold your spot.
URL:https://wildgingerliving.com/event/soapmaking-make-your-own-dish-soap-bar-2/
CATEGORIES:Arts and Crafts Classes
ATTACH;FMTTYPE=image/jpeg:https://wildgingerliving.com/wp-content/uploads/2026/01/Dish-Soap-Final-.jpg
ORGANIZER;CN="Ginger Stoops":MAILTO:wildginger@zoominternet.net
END:VEVENT
BEGIN:VEVENT
DTSTART;TZID=America/New_York:20260619T180000
DTEND;TZID=America/New_York:20260619T200000
DTSTAMP:20260421T141534
CREATED:20260323T211452Z
LAST-MODIFIED:20260323T211452Z
UID:890-1781892000-1781899200@wildgingerliving.com
SUMMARY:Uncorked Painting with Ginger: Up! UP! and Away!
DESCRIPTION:Ginger puts the fun in fine art with this relaxing paint and sip workshop that celebrates the Ashland Balloon Festival. \nPainting is an excellent way to relax and enjoy an evening with some old friends\, or to make a few new ones. Anyone can learn\, and GInger makes it easy. This fun 2-hour workshop is perfect for the beginner to those more advanced in acrylic painting. In this guided workshop\, you can paint and sip at your own pace in a relaxed\, upbeat environment.\nIt is perfect for a party\, girl’s night out\, or the perfect date night. \nFeel free to bring your own beverage of choice\, or any food or snacks that you prefer. We will provide cups\, corkscrews\, plates\, and silverware. Come join us fun evening!
URL:https://wildgingerliving.com/event/uncorked-painting-with-ginger-up-up-and-away/
LOCATION:Tin Can Chandelier
CATEGORIES:Arts and Crafts Classes
ATTACH;FMTTYPE=image/jpeg:https://wildgingerliving.com/wp-content/uploads/2026/03/Up-Up-and-Away-scaled.jpg
ORGANIZER;CN="Ginger Stoops":MAILTO:wildginger@zoominternet.net
END:VEVENT
END:VCALENDAR