BEGIN:VCALENDAR
VERSION:2.0
PRODID:-//Wild Ginger Living - ECPv6.15.20//NONSGML v1.0//EN
CALSCALE:GREGORIAN
METHOD:PUBLISH
X-WR-CALNAME:Wild Ginger Living
X-ORIGINAL-URL:https://wildgingerliving.com
X-WR-CALDESC:Events for Wild Ginger Living
REFRESH-INTERVAL;VALUE=DURATION:PT1H
X-Robots-Tag:noindex
X-PUBLISHED-TTL:PT1H
BEGIN:VTIMEZONE
TZID:America/New_York
BEGIN:DAYLIGHT
TZOFFSETFROM:-0500
TZOFFSETTO:-0400
TZNAME:EDT
DTSTART:20240310T070000
END:DAYLIGHT
BEGIN:STANDARD
TZOFFSETFROM:-0400
TZOFFSETTO:-0500
TZNAME:EST
DTSTART:20241103T060000
END:STANDARD
BEGIN:DAYLIGHT
TZOFFSETFROM:-0500
TZOFFSETTO:-0400
TZNAME:EDT
DTSTART:20250309T070000
END:DAYLIGHT
BEGIN:STANDARD
TZOFFSETFROM:-0400
TZOFFSETTO:-0500
TZNAME:EST
DTSTART:20251102T060000
END:STANDARD
BEGIN:DAYLIGHT
TZOFFSETFROM:-0500
TZOFFSETTO:-0400
TZNAME:EDT
DTSTART:20260308T070000
END:DAYLIGHT
BEGIN:STANDARD
TZOFFSETFROM:-0400
TZOFFSETTO:-0500
TZNAME:EST
DTSTART:20261101T060000
END:STANDARD
END:VTIMEZONE
BEGIN:VEVENT
DTSTART;TZID=America/New_York:20251110T180000
DTEND;TZID=America/New_York:20251110T200000
DTSTAMP:20260421T202443
CREATED:20250605T160426Z
LAST-MODIFIED:20250605T160426Z
UID:536-1762797600-1762804800@wildgingerliving.com
SUMMARY:Pumpkin Vs. Apple Swirl Soaps Workshop
DESCRIPTION:It is time for fall\, and that means the battle between pumpkin and apple spice is on! In this class\, Ginger Stoops will teach you how to make your own cold-processed soap using an easy recipe that uses simple ingredients.These soap bars have a wonderful\, clean feel and excellent lather. They are made with olive oil and coconut oil\, and natural colors and fragrances. Ginger will teach you to do wonderful swirl soaps that are perfect for fall. Which team will you be on\, pumpkin spice or apple spice? \nYou will make the soaps in class\, and can then pick them up in a few days after they are ready to unmold. All materials and equipment are provided for making soap. \nThis workshop is for adults only due to working with lye\, which can cause severe burns if not handled properly. Please wear clothing that is appropriate for messy projects and closed-toed shoes. \n18+
URL:https://wildgingerliving.com/event/pumpkin-vs-apple-swirl-soaps-workshop/
CATEGORIES:Arts and Crafts Classes
ATTACH;FMTTYPE=image/jpeg:https://wildgingerliving.com/wp-content/uploads/2025/04/Pumpkin-vs-Apple-Swirl.jpg
ORGANIZER;CN="Ginger Stoops":MAILTO:wildginger@zoominternet.net
END:VEVENT
END:VCALENDAR