BEGIN:VCALENDAR
VERSION:2.0
PRODID:-//Wild Ginger Living - ECPv6.15.20//NONSGML v1.0//EN
CALSCALE:GREGORIAN
METHOD:PUBLISH
X-WR-CALNAME:Wild Ginger Living
X-ORIGINAL-URL:https://wildgingerliving.com
X-WR-CALDESC:Events for Wild Ginger Living
REFRESH-INTERVAL;VALUE=DURATION:PT1H
X-Robots-Tag:noindex
X-PUBLISHED-TTL:PT1H
BEGIN:VTIMEZONE
TZID:America/New_York
BEGIN:DAYLIGHT
TZOFFSETFROM:-0500
TZOFFSETTO:-0400
TZNAME:EDT
DTSTART:20250309T070000
END:DAYLIGHT
BEGIN:STANDARD
TZOFFSETFROM:-0400
TZOFFSETTO:-0500
TZNAME:EST
DTSTART:20251102T060000
END:STANDARD
BEGIN:DAYLIGHT
TZOFFSETFROM:-0500
TZOFFSETTO:-0400
TZNAME:EDT
DTSTART:20260308T070000
END:DAYLIGHT
BEGIN:STANDARD
TZOFFSETFROM:-0400
TZOFFSETTO:-0500
TZNAME:EST
DTSTART:20261101T060000
END:STANDARD
BEGIN:DAYLIGHT
TZOFFSETFROM:-0500
TZOFFSETTO:-0400
TZNAME:EDT
DTSTART:20270314T070000
END:DAYLIGHT
BEGIN:STANDARD
TZOFFSETFROM:-0400
TZOFFSETTO:-0500
TZNAME:EST
DTSTART:20271107T060000
END:STANDARD
END:VTIMEZONE
BEGIN:VEVENT
DTSTART;TZID=America/New_York:20260312T160000
DTEND;TZID=America/New_York:20260312T173000
DTSTAMP:20260421T142002
CREATED:20260211T185900Z
LAST-MODIFIED:20260211T190510Z
UID:792-1773331200-1773336600@wildgingerliving.com
SUMMARY:Young Artists Series: Stick Weaving
DESCRIPTION:This class is the third of Tin Can Chandelier’s newest series of classes for budding artists. This project goes a little off the beaten path and explores the ancient art of stick weaving. This type of weaving dates back to the paleolithic era and predates any modern form of loom weaving. It is fun\, and you can use the technique to create a range of items from the useful to the whimsical. It is up to your child! Some examples of what they might create include bracelets\, dolls\, snakes\, and small purses\, to name a few. This is a technique I enjoy myself\, and I think everyone else will too! We will be using straws as weaving sticks to make our creations\, and I will have a variety of yarns to play with. \nThe picture is only a few examples of what they might create when they let their imaginations run wild. \nParents can either drop off your child and return at the end of class or stay and join in on the fun.\nAll materials provided.
URL:https://wildgingerliving.com/event/young-artists-series-stick-weaving/
LOCATION:Tin Can Chandelier
CATEGORIES:Arts and Crafts Classes
ATTACH;FMTTYPE=image/jpeg:https://wildgingerliving.com/wp-content/uploads/2026/02/March-Young-Artists-scaled.jpg
ORGANIZER;CN="Ginger Stoops":MAILTO:wildginger@zoominternet.net
END:VEVENT
END:VCALENDAR