BEGIN:VCALENDAR
VERSION:2.0
PRODID:-//Wild Ginger Living - ECPv6.15.20//NONSGML v1.0//EN
CALSCALE:GREGORIAN
METHOD:PUBLISH
X-ORIGINAL-URL:https://wildgingerliving.com
X-WR-CALDESC:Events for Wild Ginger Living
REFRESH-INTERVAL;VALUE=DURATION:PT1H
X-Robots-Tag:noindex
X-PUBLISHED-TTL:PT1H
BEGIN:VTIMEZONE
TZID:America/New_York
BEGIN:DAYLIGHT
TZOFFSETFROM:-0500
TZOFFSETTO:-0400
TZNAME:EDT
DTSTART:20250309T070000
END:DAYLIGHT
BEGIN:STANDARD
TZOFFSETFROM:-0400
TZOFFSETTO:-0500
TZNAME:EST
DTSTART:20251102T060000
END:STANDARD
BEGIN:DAYLIGHT
TZOFFSETFROM:-0500
TZOFFSETTO:-0400
TZNAME:EDT
DTSTART:20260308T070000
END:DAYLIGHT
BEGIN:STANDARD
TZOFFSETFROM:-0400
TZOFFSETTO:-0500
TZNAME:EST
DTSTART:20261101T060000
END:STANDARD
BEGIN:DAYLIGHT
TZOFFSETFROM:-0500
TZOFFSETTO:-0400
TZNAME:EDT
DTSTART:20270314T070000
END:DAYLIGHT
BEGIN:STANDARD
TZOFFSETFROM:-0400
TZOFFSETTO:-0500
TZNAME:EST
DTSTART:20271107T060000
END:STANDARD
END:VTIMEZONE
BEGIN:VEVENT
DTSTART;TZID=America/New_York:20260115T180000
DTEND;TZID=America/New_York:20260115T200000
DTSTAMP:20260421T203805
CREATED:20251229T215456Z
LAST-MODIFIED:20251229T215514Z
UID:605-1768500000-1768507200@wildgingerliving.com
SUMMARY:Cozy Winter Headband or Fingerless Gloves
DESCRIPTION:Have you ever wanted to learn to knit? If you have tried and failed or are a complete beginner\, local fiber artist Ginger Stoops is a patient teacher who can help. In this class\, you will learn the basics and complete a pair of beginner-friendly warm fingerless gloves or a winter headband. Many colors of yarn available. \nThey are knitted with bulky #6 yarn or doubled #3 yarn that is perfect for beginners. All yarn is provided\, and we will have needles and other necessary equipment for you to borrow. If you wish to bring your own needles\, this project uses size 13. \nInstructor: Ginger Stoops\nPrice: $30 + tax\nAges: 10+\nClass Time: 2 hours
URL:https://wildgingerliving.com/event/cozy-winter-headband-or-fingerless-gloves-2/
CATEGORIES:Arts and Crafts Classes
ATTACH;FMTTYPE=image/jpeg:https://wildgingerliving.com/wp-content/uploads/2025/12/IMG_1385-scaled.jpg
ORGANIZER;CN="Ginger Stoops":MAILTO:wildginger@zoominternet.net
END:VEVENT
BEGIN:VEVENT
DTSTART;TZID=America/New_York:20260117T100000
DTEND;TZID=America/New_York:20260117T120000
DTSTAMP:20260421T203805
CREATED:20251229T221042Z
LAST-MODIFIED:20251229T221042Z
UID:610-1768644000-1768651200@wildgingerliving.com
SUMMARY:Cozy Winter Headband or Fingerless Gloves
DESCRIPTION:Have you ever wanted to learn to knit? If you have tried and failed or are a complete beginner\, local fiber artist Ginger Stoops is a patient teacher who can help. In this class\, you will learn the basics and complete a pair of beginner-friendly warm fingerless gloves or a winter headband. Many colors of yarn available. \nInstructor: Ginger Stoops\nPrice: $30 + tax\nAges: 10+\nClass Time: 2 hours \n 
URL:https://wildgingerliving.com/event/cozy-winter-headband-or-fingerless-gloves-3/
CATEGORIES:Arts and Crafts Classes
ATTACH;FMTTYPE=image/jpeg:https://wildgingerliving.com/wp-content/uploads/2025/12/IMG_1385-scaled.jpg
ORGANIZER;CN="Ginger Stoops":MAILTO:wildginger@zoominternet.net
END:VEVENT
BEGIN:VEVENT
DTSTART;TZID=America/New_York:20260124T100000
DTEND;TZID=America/New_York:20260124T120000
DTSTAMP:20260421T203805
CREATED:20260110T191208Z
LAST-MODIFIED:20260110T191301Z
UID:666-1769248800-1769256000@wildgingerliving.com
SUMMARY:Beginner Crochet Workshop: Fingerless Gloves
DESCRIPTION:Instructor: Ginger Stoops\nPrice: $30 + tax\nAges: 10+\nClass Time: 2 hours \nHave you ever wanted to learn to crochet? If you have tried and failed or are a complete beginner\, local fiber artist Ginger Stoops is a patient teacher who can help. In this class\, you will learn the basics and complete a pair of beginner-friendly warm fingerless gloves. Many colors of yarn available.\nThey are knitted with bulky #6 yarn or doubled #3 yarn that is perfect for beginners. All yarn is provided\, and we will have hooks and other necessary equipment for you to borrow. If you wish to bring your own needles\, this project uses size 8mm (Size L) hook.
URL:https://wildgingerliving.com/event/beginner-crochet-workshop-fingerless-gloves/
CATEGORIES:Arts and Crafts Classes
ATTACH;FMTTYPE=image/jpeg:https://wildgingerliving.com/wp-content/uploads/2026/01/Crochet-Fingerless-Gloves-2026-scaled.jpg
ORGANIZER;CN="Ginger Stoops":MAILTO:wildginger@zoominternet.net
END:VEVENT
BEGIN:VEVENT
DTSTART;TZID=America/New_York:20260129T170000
DTEND;TZID=America/New_York:20260129T190000
DTSTAMP:20260421T203805
CREATED:20260110T191509Z
LAST-MODIFIED:20260110T191509Z
UID:669-1769706000-1769713200@wildgingerliving.com
SUMMARY:Beginner Crochet Workshop: Fingerless Gloves
DESCRIPTION:Instructor: Ginger Stoops\nPrice: $30 + tax\nAges: 10+\nClass Time: 2 hours \nHave you ever wanted to learn to crochet? If you have tried and failed or are a complete beginner\, local fiber artist Ginger Stoops is a patient teacher who can help. In this class\, you will learn the basics and complete a pair of beginner-friendly warm fingerless gloves. Many colors of yarn available.\nThey are knitted with bulky #6 yarn or doubled #3 yarn that is perfect for beginners. All yarn is provided\, and we will have hooks and other necessary equipment for you to borrow. If you wish to bring your own needles\, this project uses size 8mm (Size L) hook.
URL:https://wildgingerliving.com/event/beginner-crochet-workshop-fingerless-gloves-2/
CATEGORIES:Arts and Crafts Classes
ATTACH;FMTTYPE=image/jpeg:https://wildgingerliving.com/wp-content/uploads/2026/01/Crochet-Fingerless-Gloves-2026-scaled.jpg
ORGANIZER;CN="Ginger Stoops":MAILTO:wildginger@zoominternet.net
END:VEVENT
BEGIN:VEVENT
DTSTART;TZID=America/New_York:20260131T100000
DTEND;TZID=America/New_York:20260131T120000
DTSTAMP:20260421T203805
CREATED:20251229T221250Z
LAST-MODIFIED:20251229T221250Z
UID:612-1769853600-1769860800@wildgingerliving.com
SUMMARY:Cozy Winter Headband or Fingerless Gloves
DESCRIPTION:Have you ever wanted to learn to knit? If you have tried and failed or are a complete beginner\, local fiber artist Ginger Stoops is a patient teacher who can help. In this class\, you will learn the basics and complete a pair of beginner-friendly warm fingerless gloves or a winter headband. Many colors of yarn available. \nInstructor: Ginger Stoops\nPrice: $30 + tax\nAges: 10+\nClass Time: 2 hours \n 
URL:https://wildgingerliving.com/event/cozy-winter-headband-or-fingerless-gloves-4/
CATEGORIES:Arts and Crafts Classes
ATTACH;FMTTYPE=image/jpeg:https://wildgingerliving.com/wp-content/uploads/2025/12/IMG_1385-scaled.jpg
ORGANIZER;CN="Ginger Stoops":MAILTO:wildginger@zoominternet.net
END:VEVENT
END:VCALENDAR