BEGIN:VCALENDAR
VERSION:2.0
PRODID:-//Wild Ginger Living - ECPv6.15.20//NONSGML v1.0//EN
CALSCALE:GREGORIAN
METHOD:PUBLISH
X-ORIGINAL-URL:https://wildgingerliving.com
X-WR-CALDESC:Events for Wild Ginger Living
REFRESH-INTERVAL;VALUE=DURATION:PT1H
X-Robots-Tag:noindex
X-PUBLISHED-TTL:PT1H
BEGIN:VTIMEZONE
TZID:America/New_York
BEGIN:DAYLIGHT
TZOFFSETFROM:-0500
TZOFFSETTO:-0400
TZNAME:EDT
DTSTART:20250309T070000
END:DAYLIGHT
BEGIN:STANDARD
TZOFFSETFROM:-0400
TZOFFSETTO:-0500
TZNAME:EST
DTSTART:20251102T060000
END:STANDARD
BEGIN:DAYLIGHT
TZOFFSETFROM:-0500
TZOFFSETTO:-0400
TZNAME:EDT
DTSTART:20260308T070000
END:DAYLIGHT
BEGIN:STANDARD
TZOFFSETFROM:-0400
TZOFFSETTO:-0500
TZNAME:EST
DTSTART:20261101T060000
END:STANDARD
BEGIN:DAYLIGHT
TZOFFSETFROM:-0500
TZOFFSETTO:-0400
TZNAME:EDT
DTSTART:20270314T070000
END:DAYLIGHT
BEGIN:STANDARD
TZOFFSETFROM:-0400
TZOFFSETTO:-0500
TZNAME:EST
DTSTART:20271107T060000
END:STANDARD
END:VTIMEZONE
BEGIN:VEVENT
DTSTART;TZID=America/New_York:20260205T180000
DTEND;TZID=America/New_York:20260205T200000
DTSTAMP:20260421T190011
CREATED:20251229T222131Z
LAST-MODIFIED:20251229T222131Z
UID:617-1770314400-1770321600@wildgingerliving.com
SUMMARY:Cozy Winter Headband or Fingerless Gloves
DESCRIPTION:Have you ever wanted to learn to knit? If you have tried and failed or are a complete beginner\, local fiber artist Ginger Stoops is a patient teacher who can help. In this class\, you will learn the basics and complete a pair of beginner-friendly warm fingerless gloves or a winter headband. Many colors of yarn available. \nThey are knitted with bulky #6 yarn or doubled #3 yarn that is perfect for beginners. All yarn is provided\, and we will have needles and other necessary equipment for you to borrow. If you wish to bring your own needles\, this project uses size 13. \nInstructor: Ginger Stoops\nPrice: $30 + tax\nAges: 10+\nClass Time: 2 hours
URL:https://wildgingerliving.com/event/cozy-winter-headband-or-fingerless-gloves-5/
CATEGORIES:Arts and Crafts Classes
ATTACH;FMTTYPE=image/jpeg:https://wildgingerliving.com/wp-content/uploads/2025/12/IMG_1385-scaled.jpg
ORGANIZER;CN="Ginger Stoops":MAILTO:wildginger@zoominternet.net
END:VEVENT
BEGIN:VEVENT
DTSTART;TZID=America/New_York:20260207T100000
DTEND;TZID=America/New_York:20260207T120000
DTSTAMP:20260421T190011
CREATED:20260110T191813Z
LAST-MODIFIED:20260110T191813Z
UID:671-1770458400-1770465600@wildgingerliving.com
SUMMARY:Beginner Crochet Workshop: Fingerless Gloves
DESCRIPTION:Instructor: Ginger Stoops\nPrice: $30 + tax\nAges: 10+\nClass Time: 2 hours \nHave you ever wanted to learn to crochet? If you have tried and failed or are a complete beginner\, local fiber artist Ginger Stoops is a patient teacher who can help. In this class\, you will learn the basics and complete a pair of beginner-friendly warm fingerless gloves. Many colors of yarn available.\nThey are knitted with bulky #6 yarn or doubled #3 yarn that is perfect for beginners. All yarn is provided\, and we will have hooks and other necessary equipment for you to borrow. If you wish to bring your own needles\, this project uses size 8mm (Size L) hook.
URL:https://wildgingerliving.com/event/beginner-crochet-workshop-fingerless-gloves-3/
CATEGORIES:Arts and Crafts Classes
ATTACH;FMTTYPE=image/jpeg:https://wildgingerliving.com/wp-content/uploads/2026/01/Crochet-Fingerless-Gloves-2026-scaled.jpg
ORGANIZER;CN="Ginger Stoops":MAILTO:wildginger@zoominternet.net
END:VEVENT
BEGIN:VEVENT
DTSTART;TZID=America/New_York:20260212T180000
DTEND;TZID=America/New_York:20260212T200000
DTSTAMP:20260421T190011
CREATED:20260110T192027Z
LAST-MODIFIED:20260110T192027Z
UID:673-1770919200-1770926400@wildgingerliving.com
SUMMARY:Beginner Crochet Workshop: Fingerless Gloves
DESCRIPTION:Instructor: Ginger Stoops\nPrice: $30 + tax\nAges: 10+\nClass Time: 2 hours \nHave you ever wanted to learn to crochet? If you have tried and failed or are a complete beginner\, local fiber artist Ginger Stoops is a patient teacher who can help. In this class\, you will learn the basics and complete a pair of beginner-friendly warm fingerless gloves. Many colors of yarn available.\nThey are knitted with bulky #6 yarn or doubled #3 yarn that is perfect for beginners. All yarn is provided\, and we will have hooks and other necessary equipment for you to borrow. If you wish to bring your own needles\, this project uses size 8mm (Size L) hook.
URL:https://wildgingerliving.com/event/beginner-crochet-workshop-fingerless-gloves-4/
CATEGORIES:Arts and Crafts Classes
ATTACH;FMTTYPE=image/jpeg:https://wildgingerliving.com/wp-content/uploads/2026/01/Crochet-Fingerless-Gloves-2026-scaled.jpg
ORGANIZER;CN="Ginger Stoops":MAILTO:wildginger@zoominternet.net
END:VEVENT
BEGIN:VEVENT
DTSTART;TZID=America/New_York:20260214T100000
DTEND;TZID=America/New_York:20260214T120000
DTSTAMP:20260421T190011
CREATED:20251229T222352Z
LAST-MODIFIED:20251229T222352Z
UID:619-1771063200-1771070400@wildgingerliving.com
SUMMARY:Cozy Winter Headband or Fingerless Gloves
DESCRIPTION:Have you ever wanted to learn to knit? If you have tried and failed or are a complete beginner\, local fiber artist Ginger Stoops is a patient teacher who can help. In this class\, you will learn the basics and complete a pair of beginner-friendly warm fingerless gloves or a winter headband. Many colors of yarn available. \nThey are knitted with bulky #6 yarn or doubled #3 yarn that is perfect for beginners. All yarn is provided\, and we will have needles and other necessary equipment for you to borrow. If you wish to bring your own needles\, this project uses size 13. \nInstructor: Ginger Stoops\nPrice: $30 + tax\nAges: 10+\nClass Time: 2 hours \n 
URL:https://wildgingerliving.com/event/cozy-winter-headband-or-fingerless-gloves-6/
CATEGORIES:Arts and Crafts Classes
ATTACH;FMTTYPE=image/jpeg:https://wildgingerliving.com/wp-content/uploads/2025/12/IMG_1385-scaled.jpg
ORGANIZER;CN="Ginger Stoops":MAILTO:wildginger@zoominternet.net
END:VEVENT
BEGIN:VEVENT
DTSTART;TZID=America/New_York:20260219T180000
DTEND;TZID=America/New_York:20260219T200000
DTSTAMP:20260421T190011
CREATED:20260110T192339Z
LAST-MODIFIED:20260110T192339Z
UID:675-1771524000-1771531200@wildgingerliving.com
SUMMARY:Needle Felt Succulents Workshop
DESCRIPTION:Instructor: Ginger Stoops\nPrice: $20 + tax\nAges: 10+\nClass Time: 2 hours \nWho doesn’t love succulents!!! Even if you don’t have a green thumb\, these adorable needle felt succulent planters will brighten any room. Local fiber artist Ginger Stoops is here to teach you the basics of needle felting to create a  succulent arrangement of your choice. Pots and paint markers will be available to decorate them\, too! You will learn the skills necessary to create other projects beyond this class. Needle felting needles are extremely sharp\, so keep that in mind when signing up for this class. Needle felting is the perfect way to relax. Needle felting needles are available to borrow for the class. All other materials are provided.
URL:https://wildgingerliving.com/event/needle-felt-succulents-workshop/
CATEGORIES:Arts and Crafts Classes
ATTACH;FMTTYPE=image/jpeg:https://wildgingerliving.com/wp-content/uploads/2026/01/Needlefelt-Succlents-Class-2026-scaled.jpg
ORGANIZER;CN="Ginger Stoops":MAILTO:wildginger@zoominternet.net
END:VEVENT
END:VCALENDAR