BEGIN:VCALENDAR
VERSION:2.0
PRODID:-//Wild Ginger Living - ECPv6.15.20//NONSGML v1.0//EN
CALSCALE:GREGORIAN
METHOD:PUBLISH
X-WR-CALNAME:Wild Ginger Living
X-ORIGINAL-URL:https://wildgingerliving.com
X-WR-CALDESC:Events for Wild Ginger Living
REFRESH-INTERVAL;VALUE=DURATION:PT1H
X-Robots-Tag:noindex
X-PUBLISHED-TTL:PT1H
BEGIN:VTIMEZONE
TZID:America/New_York
BEGIN:DAYLIGHT
TZOFFSETFROM:-0500
TZOFFSETTO:-0400
TZNAME:EDT
DTSTART:20250309T070000
END:DAYLIGHT
BEGIN:STANDARD
TZOFFSETFROM:-0400
TZOFFSETTO:-0500
TZNAME:EST
DTSTART:20251102T060000
END:STANDARD
BEGIN:DAYLIGHT
TZOFFSETFROM:-0500
TZOFFSETTO:-0400
TZNAME:EDT
DTSTART:20260308T070000
END:DAYLIGHT
BEGIN:STANDARD
TZOFFSETFROM:-0400
TZOFFSETTO:-0500
TZNAME:EST
DTSTART:20261101T060000
END:STANDARD
BEGIN:DAYLIGHT
TZOFFSETFROM:-0500
TZOFFSETTO:-0400
TZNAME:EDT
DTSTART:20270314T070000
END:DAYLIGHT
BEGIN:STANDARD
TZOFFSETFROM:-0400
TZOFFSETTO:-0500
TZNAME:EST
DTSTART:20271107T060000
END:STANDARD
END:VTIMEZONE
BEGIN:VEVENT
DTSTART;TZID=America/New_York:20260204T103000
DTEND;TZID=America/New_York:20260204T120000
DTSTAMP:20260421T201839
CREATED:20260110T190754Z
LAST-MODIFIED:20260110T190754Z
UID:664-1770201000-1770206400@wildgingerliving.com
SUMMARY:Young Artists Series: Do Ya Wanna Build A Snowman?
DESCRIPTION:Instructor: Ginger Stoops\nPrice: $15 + tax\nAges: 6+\nClass Time: 1 -1 1/2 hours \nThis class is the first of Tin Can Chandelier’s newest series of classes for budding artists. In this class\, kids will get an introduciton to basic art concepts while completing a fun project. In this project they will use mixed-media collage and explore the concepts of focal point\, symmetry\, and assymetry. They will create a snowman character and build a world that tells a story about him/her. It will introduce the concepts of the visual arts as storytelling. In the end\, each child will get to share their character and the story behind it. It promises to be fun for everyone! \nA variety of materials will be available to help with the kids creations. The picture is only an example of what they might create when they let their imaginations run wild. \nParents can either drop off your child and return at the end of class or stay and join in on the fun.\nAll materials provided.
URL:https://wildgingerliving.com/event/young-artists-series-do-ya-wanna-build-a-snowman-2/
CATEGORIES:Arts and Crafts Classes
ATTACH;FMTTYPE=image/jpeg:https://wildgingerliving.com/wp-content/uploads/2026/01/Jan-25-art-series-scaled.jpg
ORGANIZER;CN="Ginger Stoops":MAILTO:wildginger@zoominternet.net
END:VEVENT
END:VCALENDAR