BEGIN:VCALENDAR
VERSION:2.0
PRODID:-//Wild Ginger Living - ECPv6.15.20//NONSGML v1.0//EN
CALSCALE:GREGORIAN
METHOD:PUBLISH
X-WR-CALNAME:Wild Ginger Living
X-ORIGINAL-URL:https://wildgingerliving.com
X-WR-CALDESC:Events for Wild Ginger Living
REFRESH-INTERVAL;VALUE=DURATION:PT1H
X-Robots-Tag:noindex
X-PUBLISHED-TTL:PT1H
BEGIN:VTIMEZONE
TZID:America/New_York
BEGIN:DAYLIGHT
TZOFFSETFROM:-0500
TZOFFSETTO:-0400
TZNAME:EDT
DTSTART:20250309T070000
END:DAYLIGHT
BEGIN:STANDARD
TZOFFSETFROM:-0400
TZOFFSETTO:-0500
TZNAME:EST
DTSTART:20251102T060000
END:STANDARD
BEGIN:DAYLIGHT
TZOFFSETFROM:-0500
TZOFFSETTO:-0400
TZNAME:EDT
DTSTART:20260308T070000
END:DAYLIGHT
BEGIN:STANDARD
TZOFFSETFROM:-0400
TZOFFSETTO:-0500
TZNAME:EST
DTSTART:20261101T060000
END:STANDARD
BEGIN:DAYLIGHT
TZOFFSETFROM:-0500
TZOFFSETTO:-0400
TZNAME:EDT
DTSTART:20270314T070000
END:DAYLIGHT
BEGIN:STANDARD
TZOFFSETFROM:-0400
TZOFFSETTO:-0500
TZNAME:EST
DTSTART:20271107T060000
END:STANDARD
END:VTIMEZONE
BEGIN:VEVENT
DTSTART;TZID=America/New_York:20260409T160000
DTEND;TZID=America/New_York:20260409T173000
DTSTAMP:20260421T170428
CREATED:20260211T191506Z
LAST-MODIFIED:20260211T191506Z
UID:797-1775750400-1775755800@wildgingerliving.com
SUMMARY:Young Artists Series: April Showers Bring May Flowers and Monsters!
DESCRIPTION:Let’s celebrate spring with this class is the fourth of Tin Can Chandelier’s newest series of classes for budding artists. This class uses a fun painting technique using straws. It is called blow painting and is completely fun! The young artists will learn to draw characature features to give their monster a unique personality. There is also a bonus. They can use wool in a wide selection of beautiul colors to create a unique flower using wet felting. Kids will get wet and squishy\, so plan accordingly. Wet felting is a wonderful tactile sensory activity\, and they learn the basics of how felt is made. Spaces are limited\, so be sure to sign up for this unique art activity soon! \nThe picture is only an example of what they might create when they let their imaginations run wild. \nParents can either drop off your child and return at the end of class or stay and join in on the fun.\nAll materials provided.
URL:https://wildgingerliving.com/event/young-artists-series-april-showers-bring-may-flowers-and-monsters/
LOCATION:Tin Can Chandelier
CATEGORIES:Arts and Crafts Classes
ATTACH;FMTTYPE=image/jpeg:https://wildgingerliving.com/wp-content/uploads/2026/02/April-Young-Artists-scaled.jpg
ORGANIZER;CN="Ginger Stoops":MAILTO:wildginger@zoominternet.net
END:VEVENT
END:VCALENDAR