BEGIN:VCALENDAR
VERSION:2.0
PRODID:-//Wild Ginger Living - ECPv6.15.20//NONSGML v1.0//EN
CALSCALE:GREGORIAN
METHOD:PUBLISH
X-WR-CALNAME:Wild Ginger Living
X-ORIGINAL-URL:https://wildgingerliving.com
X-WR-CALDESC:Events for Wild Ginger Living
REFRESH-INTERVAL;VALUE=DURATION:PT1H
X-Robots-Tag:noindex
X-PUBLISHED-TTL:PT1H
BEGIN:VTIMEZONE
TZID:America/New_York
BEGIN:DAYLIGHT
TZOFFSETFROM:-0500
TZOFFSETTO:-0400
TZNAME:EDT
DTSTART:20250309T070000
END:DAYLIGHT
BEGIN:STANDARD
TZOFFSETFROM:-0400
TZOFFSETTO:-0500
TZNAME:EST
DTSTART:20251102T060000
END:STANDARD
BEGIN:DAYLIGHT
TZOFFSETFROM:-0500
TZOFFSETTO:-0400
TZNAME:EDT
DTSTART:20260308T070000
END:DAYLIGHT
BEGIN:STANDARD
TZOFFSETFROM:-0400
TZOFFSETTO:-0500
TZNAME:EST
DTSTART:20261101T060000
END:STANDARD
BEGIN:DAYLIGHT
TZOFFSETFROM:-0500
TZOFFSETTO:-0400
TZNAME:EDT
DTSTART:20270314T070000
END:DAYLIGHT
BEGIN:STANDARD
TZOFFSETFROM:-0400
TZOFFSETTO:-0500
TZNAME:EST
DTSTART:20271107T060000
END:STANDARD
END:VTIMEZONE
BEGIN:VEVENT
DTSTART;TZID=America/New_York:20260911T180000
DTEND;TZID=America/New_York:20260911T200000
DTSTAMP:20260421T202205
CREATED:20260410T173257Z
LAST-MODIFIED:20260410T173257Z
UID:952-1789149600-1789156800@wildgingerliving.com
SUMMARY:Uncorked Painting with Ginger: FINGERPAINTED Sunset
DESCRIPTION:Yes\, you read that right. Ginger puts the fun in fine art with this relaxing paint and sip workshop where we will learn fingepainting techniques to create a vibrant impressionist-style sunset. We all loved fingerpainting as kids\, and that is what makes this grown-up version so fun. \nPainting is an excellent way to relax and enjoy an evening with some old friends\, or to make a few new ones. Anyone can learn\, and GInger makes it easy. This fun 2-hour workshop is perfect for the beginner to those more advanced in acrylic painting. In this guided workshop\, you can paint and sip at your own pace in a relaxed\, upbeat environment. It is perfect for a party\, girl’s night out\, or the perfect date night. \nFeel free to bring your own beverage of choice\, or any food or snacks that you prefer. We will provide cups\, corkscrews\, plates\, and silverware. Come join us fun evening!
URL:https://wildgingerliving.com/event/uncorked-painting-with-ginger-fingerpainted-sunset-2/
LOCATION:Tin Can Chandelier
CATEGORIES:Arts and Crafts Classes
ATTACH;FMTTYPE=image/jpeg:https://wildgingerliving.com/wp-content/uploads/2026/04/IMG_2180-scaled.jpeg
ORGANIZER;CN="Ginger Stoops":MAILTO:wildginger@zoominternet.net
END:VEVENT
END:VCALENDAR