BEGIN:VCALENDAR
VERSION:2.0
PRODID:-//Wild Ginger Living - ECPv6.15.20//NONSGML v1.0//EN
CALSCALE:GREGORIAN
METHOD:PUBLISH
X-WR-CALNAME:Wild Ginger Living
X-ORIGINAL-URL:https://wildgingerliving.com
X-WR-CALDESC:Events for Wild Ginger Living
REFRESH-INTERVAL;VALUE=DURATION:PT1H
X-Robots-Tag:noindex
X-PUBLISHED-TTL:PT1H
BEGIN:VTIMEZONE
TZID:America/New_York
BEGIN:DAYLIGHT
TZOFFSETFROM:-0500
TZOFFSETTO:-0400
TZNAME:EDT
DTSTART:20250309T070000
END:DAYLIGHT
BEGIN:STANDARD
TZOFFSETFROM:-0400
TZOFFSETTO:-0500
TZNAME:EST
DTSTART:20251102T060000
END:STANDARD
BEGIN:DAYLIGHT
TZOFFSETFROM:-0500
TZOFFSETTO:-0400
TZNAME:EDT
DTSTART:20260308T070000
END:DAYLIGHT
BEGIN:STANDARD
TZOFFSETFROM:-0400
TZOFFSETTO:-0500
TZNAME:EST
DTSTART:20261101T060000
END:STANDARD
BEGIN:DAYLIGHT
TZOFFSETFROM:-0500
TZOFFSETTO:-0400
TZNAME:EDT
DTSTART:20270314T070000
END:DAYLIGHT
BEGIN:STANDARD
TZOFFSETFROM:-0400
TZOFFSETTO:-0500
TZNAME:EST
DTSTART:20271107T060000
END:STANDARD
END:VTIMEZONE
BEGIN:VEVENT
DTSTART;TZID=America/New_York:20260406T180000
DTEND;TZID=America/New_York:20260406T200000
DTSTAMP:20260421T124950
CREATED:20260101T211124Z
LAST-MODIFIED:20260101T211155Z
UID:627-1775498400-1775505600@wildgingerliving.com
SUMMARY:April Showers Floral Bouquet Soaps: Soapmaking Workshop
DESCRIPTION:Scent of the Month:  Wisteria and Lilac. This scent will help welcome in spring with fruity top notes with base notes of a floral bouquet. \nInstructor: Ginger Stoops\nPrice: $30.00 \nThese beautiful soaps are a wonderful way to welcome in Spring.  In this class\, Ginger Stoops will teach you how to make your own cold-processed soap using an easy recipe that uses simple ingredients. These soap bars have a wonderful\, clean feel and excellent lather. They are made with olive oil and coconut oil\, natural clays\, and natural micas for color. Ginger will teach you to create these beautiful floral soaps. \nIn this class\, you will take home three – four bars of your own creation\, depending on the mold you choose. You will make the soaps in class\, and can then pick them up in a few days after they are ready to unmold. All materials and equipment are provided for making soap. \nThis class is for adults only due to working with lye\, which can cause severe burns if not handled properly. Please wear clothing that is appropriate for messy projects and closed-toed shoes. \nAge: 18+\nClass limited to 8\, and they fill up FAST\, so be sure to preregister to hold your spot.
URL:https://wildgingerliving.com/event/april-showers-floral-bouquet-soaps-soapmaking-workshop/
CATEGORIES:Arts and Crafts Classes
ATTACH;FMTTYPE=image/jpeg:https://wildgingerliving.com/wp-content/uploads/2026/01/Think-Spring-Floral-Soaps-scaled.jpg
ORGANIZER;CN="Ginger Stoops":MAILTO:wildginger@zoominternet.net
END:VEVENT
END:VCALENDAR